Workbook

Sheet Информация о Чемпионате
A3: Компетенция | B3: Окраска автомобиля
A4: Наименование этапа Чемпионата | B4: Региональный
A5: Субъект РФ (регион проведения)
A6: Базовая организация расположения конкурсной площадки
A7: Адрес конкурсной площадки
A8: Даты проведения
A9: Главный эксперт
A10: Электронная почта ГЭ
A11: Моб.телефон ГЭ
A12: Технический администратор площадки
A13: Электронная почта ТАП
A14: Моб.телефон ТАП
A15: Количество конкурсантов (команд)
A16: Количество рабочих мест
... A25: ТАП - технический администратор площадки

Sheet Общая инфраструктура
A1: ПРОЕКТ
A2: Инфраструктурный лист для оснащения конкурсной площадки
A3: ='Информация о Чемпионате'!B4 -> Региональный
A4: по компетенции
A5: ='Информация о Чемпионате'!B3 -> Окраска автомобиля
A6: Основная информация о конкурсной площадке:
A7: Субъект Российской Федерации: | C7: ='Информация о Чемпионате'!B5 -> 0
A8: Базовая организация расположения конкурсной площадки: | D8: ='Информация о Чемпионате'!B6 -> 0
A9: Адрес базовой организации: | C9: ='Информация о Чемпионате'!B7 -> 0
A10: Главный эксперт: | C10: ='Информация о Чемпионате'!B9 -> 0 | E10: ='Информация о Чемпионате'!B10 -> 0 | G10: ='Информация о Чемпионате'!B11 -> 0
A11: Технический администратор площадки: | C11: ='Информация о Чемпионате'!B12 -> 0 | E11: ='Информация о Чемпионате'!B13 -> 0 | G11: ='Информация о Чемпионате'!B14 -> 0
A12: Количество экспертов (ЭН+ГЭ+ИЭ) + ТАП: | C12: ='Информация о Чемпионате'!B17 -> 0
A13: Количество конкурсантов (команд): | C13: ='Информация о Чемпионате'!B15 -> 0
A14: Количество рабочих мест: | C14: ='Информация о Чемпионате'!B16 -> 0
A15: Даты проведения: | C15: ='Информация о Чемпионате'!B8 -> 0
A16: Общая зона конкурсной площадки (оборудование, инструмент, мебель)
A17: Требования к обеспечению зоны (коммуникации, площадь, сети, количество рабочих мест и др.):
A18: Площадь зоны: не менее 250 кв.м.
A19: Освещение: Допустимо верхнее искусственное освещение ( не менее 900 люкс)
A20: Интернет : Подключение ноутбуков к беспроводному интернету (с возможностью подключения к проводному интернету)
A21: Электричество: ___ подключения к сети по (220 Вольт и 380 Вольт)
A22: Контур заземления для электропитания и сети слаботочных подключений (при необходимости) : не требуется
A23: Покрытие пола: ковролин - ___ кв.м на всю зону
A24: Подведение/ отведение ГХВС (при необходимости): требуется/не требуется
A25: Подведение сжатого воздуха (при необходимости): требуется/не требуется
A26: № | B26: Наименование | C26: Краткие (рамочные) технические характеристики | D26: Вид | E26: Количество | F26: Единица измерения | G26: Итоговое количество | H26: Рекомендации представителей индустрии (указывается конкретное оборудование)
A27: 1 | B27: ОСК (Окрасочно-сушильная камера) | C27: Минимальные размеры кабины внутренние (Д х Ш х В), мм - 6000 x 4000 x 2500. Металлическое основание с трапами или установка в бетонный приямок. Решетчатый пол. Освещение не менее 1000 люкс. Приточный вентилятор, м3/ч - не менее 18000. Вытяжной вентилятор, м3/ч - не менее 10000. Питание, В 380;. Система нагрева - дизель/газ/ТЭН. | D27: Оборудование | E27: 1 | F27: шт. | H27: ОСК (дизельные)
A28: 2 | B28: Комперессор воздушный | C28: Винтовой компрессор с ресивером и осушителем, производительность на 4 рабочих места не менее 1000 л/мин. Ресивер объёмом не менее 500 л. | D28: Оборудование | E28: 1 | F28: шт.
A29: 3 | B29: Пост подготовки к окраске | C29: Минимальный размер внутренний (Д х Ш х В), мм - 6000 x 4000 x 2500. с вытяжкой и освещением не менее 1000 люкс. Приточный вентилятор, м3/ч - не менее 15000. Подогрев опционально. | D29: Оборудование | E29: 1 | F29: шт.
A30: 4 | B30: Весы для смешивания | C30: Весы электронные профессионыльные Дискретность показаний г 0,1. 0,05 г. Значение внешнего веса для юстировки / класс точности кг 1, 2, 5 / F2 или выше Размер чаши весов диаметр в мм - 233 Вес нетто кг 2,4 | D30: Оборудование | E30: 2 | F30: шт.
A31: 5 | B31: Устройство для очистки краскопультов | C31: Установка для мойки краскопультов от лакокрасочных материалов (ЛКМ), на основе растворителей и на водной основе. Корпус из оцинкованной стали. Подача растворителя: отработанный растворитель, чистый растворитель в смеси с воздухом, чистый растворитель. Давление не менее 4 бар. | D31: Оборудование | E31: 1 | F31: шт.
A32: 6 | B32: ИК -Сушка | C32: Габариты в мм - 3200х4250х1490. Рабочий диапазон, мм - 800х800 Потребляемая мощность, кВт - 2,2. Напряжение, Вольт - 220-380. Рабочая температура окр.воздуха, °C 40-75. Расстояние до нагреваемой детали, мм, 450-650. Таймер- 0-60 мин. | D32: Оборудование | E32: 2 | F32: шт.
A33: 7 | B33: Диспенсер для маскирующей бумаги | C33: Металический передвижной каркас, количество держателей рулонов - 1. Для бумаги рамером 30/40/60 | D33: Оборудование | E33: 1 | F33: шт.
A34: 8 | B34: Диспенсер для маскирующей плёнки | C34: Металический передвижной каркас, количество держателей рулонов - 1. Для пленки | D34: Оборудование | E34: 1 | F34: шт.
A35: 9 | B35: Диспенсер для салфеток напольный | C35: Металический передвижной каркас, количество держателей рулонов - 1. Для салфеток | D35: Оборудование | E35: 1 | F35: шт.
A36: 10 | B36: Точка подачи сжатого воздуха в ОСК | C36: С регулятором давления не менее 4 атм .б/с разъёмы | D36: Оборудование | E36: 1 | F36: шт.
A37: 11 | B37: Шланг с быстросъём. разъёмами в ОСК | C37: Форма прямой. Длина≥ 15 м. Максимальное давление≥ 60 бар. Материал армированный ПВХ | D37: Оборудование | E37: 4 | F37: шт.
A38: 12 | B38: Стол металл. | C38: Размер стандартный. Верстак металлический Размер 1200 x 600 x 600 | D38: Мебель | E38: 1 | F38: шт.
A39: 13 | B39: Стол металлический Х образный | C39: Стол металлический Х образный. Размер стандартный | D39: Мебель | E39: 1 | F39: шт.
... A45: 19 | B45: Ящики пластиковые | C45: Пластиковые стойкие к растворителю 600х400х300 штабелируемые | D45: Оборудование | E45: 2 | F45: шт
...

Sheet Рабочее место конкурсантов
A1: ПРОЕКТ
A2: Инфраструктурный лист для оснащения конкурсной площадки
A3: ='Информация о Чемпионате'!B4 -> Региональный
A4: по компетенции
A5: ='Информация о Чемпионате'!B3 -> Окраска автомобиля
A6: Основная информация о конкурсной площадке:
A7: Субъект Российской Федерации: | C7: ='Информация о Чемпионате'!B5 -> 0
A8: Базовая организация расположения конкурсной площадки: | D8: ='Информация о Чемпионате'!B6 -> 0
A9: Адрес базовой организации: | C9: ='Информация о Чемпионате'!B7 -> 0
A10: Главный эксперт: | C10: ='Информация о Чемпионате'!B9 -> 0 | E10: ='Информация о Чемпионате'!B10 -> 0 | G10: ='Информация о Чемпионате'!B11 -> 0
A11: Технический администратор площадки: | C11: ='Информация о Чемпионате'!B12 -> 0 | E11: ='Информация о Чемпионате'!B13 -> 0 | G11: ='Информация о Чемпионате'!B14 -> 0
A12: Количество экспертов (ЭН+ГЭ+ИЭ) + ТАП: | C12: ='Информация о Чемпионате'!B17 -> 0
A13: Количество конкурсантов (команд): | C13: ='Информация о Чемпионате'!B15 -> 0
A14: Количество рабочих мест: | C14: ='Информация о Чемпионате'!B16 -> 0
A15: Даты проведения: | C15: ='Информация о Чемпионате'!B8 -> 0
A16: Рабочее место Конкурсанта (основное оборудование, вспомогательное оборудование, инструмент (по количеству рабочих мест))
A17: Требования к обеспечению зоны (коммуникации, площадь, сети, количество рабочих мест и др.):
A18: Площадь зоны: не менее 6 кв.м.
A19: Освещение: Допустимо верхнее искусственное освещение ( не менее 1000 люкс)
A20: Интернет : Подключение ноутбуков к беспроводному интернету (с возможностью подключения к проводному интернету)
A21: Электричество: ___ подключения к сети по (220 Вольт и 380 Вольт)
A22: Контур заземления для электропитания и сети слаботочных подключений (при необходимости) : не требуется
A23: Покрытие пола: ковролин - ___ кв.м. на всю зону
A24: Подведение/ отведение ГХВС (при необходимости): требуется/не требуется
A25: Подведение сжатого воздуха (при необходимости): требуется/не требуется
A26: № | B26: Наименование | C26: Краткие (рамочные) технические характеристики | D26: Вид | E26: Количество | F26: Единица измерения | G26: Итоговое количество | H26: Рекомендации представителей индустрии (указывается конкретное оборудование)
A27: 1 | B27: Рабочие столы стойкие к растворителям | C27: Металлические стойкие к растворителям. Размер стандартный. Наименование характеристики Размеры внешние 866x1200x697 (ВхШхГ). Максимальная нагрузка на полку ≥ 100 кг. Нагрузка на верстак >750 кг | D27: Оборудование | E27: 1 | F27: шт ( на 1 раб.место)
A28: 2 | B28: Поворотный Стол-подставка для окраски деталей | C28: Размер в сложенном виде 1225х245х165 мм. Размер в развернутом виде 2250х950х880мм Материал изготовления- оцинкованная сталь. Колеса для перемещения | D28: Оборудование | E28: 1 | F28: шт ( на 1 раб.место)
A29: 3 | B29: Поворотный Стол-Х образный для окраски деталей | C29: Грузоподъемность ≥ 120кг. Размер в развернутом виде 1210 х 265 х 1140мм. Материал изготовления- оцинкованная сталь. Нагрузка >120кг | D29: Оборудование | E29: 1 | F29: шт ( на 1 раб.место)
A30: 4 | B30: Точка подачи сжатого воздуха в зоне подготовки | C30: С регулятором давления не менее 4 атм .б/с разъёмы | D30: Оборудование | E30: 4 | F30: шт ( на 1 раб.место)
A31: 5 | B31: Воздушный шланг в зоне подготовки | C31: Брендовый шланг с б/с разъёмами. Максимальное давление не менее 8 бар, внутренний диаметр не менее 9мм, длинна шланга не менее 10 метров. | D31: Оборудование | E31: 4 | F31: шт ( на 1 раб.место)
A32: 6 | B32: Контейнер с крышкой для отработанных салфеток | C32: Пластиковый с крышкой 120л. Наличие крышки. Педальный механизм. Наличие колес. | D32: Оборудование | E32: 1 | F32: шт ( на 1 раб.место)
A33: 7 | B33: Пылесос (рабочая станция) | C33: Вес, кг не более 12. Возможность работы без мешка. Возможность сбора жидкости. Диаметр всасывающего шланга, мм 50. Мощность, Вт не менее 1500. Объем бака, л не менее 20. Регулировка мощности. Розетка для электроинструмента. Автоматическое включение от машинки. Тип пылесборника мешок/контейнер. Питание 220 В. | D33: Оборудование | E33: 1 | F33: шт ( на 1 раб.место)
A34: 8 | B34: Шлифок ручной короткий | C34: Шлифок ручной пластиковый с пылеотводом для пылесоса. Наименование характеристики Длина подошвы 125х70. Крепление шлифлиста липучка | D34: Оборудование | E34: 1 | F34: шт ( на 1 раб.место)
A35: 9 | B35: Шлифок ручной средний | C35: Шлифок ручной пластиковый с пылеотводом для пылесоса. Наименование характеристики Длина подошвы 198х70. Крепление шлифлиста липучка. | D35: Оборудование | E35: 1 | F35: шт ( на 1 раб.место)
A36: 10 | B36: Подложка промежуточная, демпфирующая | C36: Мягкая соответствует производителю инстр. для абразивных кругов | D36: Оборудование | E36: 1 | F36: шт ( на 1 раб.место)
A37: 11 | B37: Шлифовальная эксцентриковая машинка 3 мм | C37: Машинка эксцентриковая ход 3мм. Наименование характеристики Напряжение 220В. Диаметр диска 150мм. Электр. регулировка оборотов. Диапазон оборотов ≥ 5000 - ≤ 10000 об/мин | D37: Оборудование | E37: 1 | F37: шт ( на 1 раб.место)
A38: 12 | B38: Помпа для очистителя без силикона | C38: Помпа. Тип ручной. Наличие Объем бака 1л. Материал пластик | D38: Оборудование | E38: 2 | F38: шт ( на 1 раб.место)
... A43: 17 | B43: Сварочные зажимные клещи | C43: Сварочные зажимные клещи металлические с фиксатором | D43: Оборудование | E43: 1 | F43: шт ( на 1 раб.место)
A44: 18 | B44: Электрический паяльник с регулировкой температуры без дополнительных комплектующих и аксесуаров | C44: Электрический паяльник с регулировкой температуры >100Вт. Наименование характеристики. Длина> 600мм. Материал металл | D44: Оборудование | F44: шт ( на 1 раб.место)
...

Sheet Расходные материалы
A1: ПРОЕКТ
A2: Инфраструктурный лист для оснащения конкурсной площадки
A3: ='Информация о Чемпионате'!B4 -> Региональный
A4: по компетенции
A5: ='Информация о Чемпионате'!B3 -> Окраска автомобиля
A6: Основная информация о конкурсной площадке:
A7: Субъект Российской Федерации: | C7: ='Информация о Чемпионате'!B5 -> 0
A8: Базовая организация расположения конкурсной площадки: | D8: ='Информация о Чемпионате'!B6 -> 0
A9: Адрес базовой организации: | C9: ='Информация о Чемпионате'!B7 -> 0
A10: Главный эксперт: | C10: ='Информация о Чемпионате'!B9 -> 0 | E10: ='Информация о Чемпионате'!B10 -> 0 | G10: ='Информация о Чемпионате'!B11 -> 0
A11: Технический администратор площадки: | C11: ='Информация о Чемпионате'!B12 -> 0 | E11: ='Информация о Чемпионате'!B13 -> 0 | G11: ='Информация о Чемпионате'!B14 -> 0
A12: Количество экспертов (ЭН+ГЭ+ИЭ) + ТАП: | C12: ='Информация о Чемпионате'!B17 -> 0
A13: Количество конкурсантов (команд): | C13: ='Информация о Чемпионате'!B15 -> 0
A14: Количество рабочих мест: | C14: ='Информация о Чемпионате'!B16 -> 0
A15: Даты проведения: | C15: ='Информация о Чемпионате'!B8 -> 0
A16: Рабочее место Конкурсанта (расходные материалы по количеству конкурсантов)
A17: № | B17: Наименование | C17: Краткие (рамочные) технические характеристики | D17: Вид | E17: Количество | F17: Единица измерения | G17: Итоговое количество | H17: Рекомендации представителей индустрии (указывается конкретное оборудование)
A18: 1 | B18: Деталь бампер (новый не структурный) | C18: Бампер ЗАДНИЙ новый (окрашенный) | D18: Расходные материалы | E18: 1 | F18: шт ( на 1 конкурсанта)
A19: 2 | B19: Крыло переднее ( новый, ОЕМ грунте) | C19: Дверь передня ( новый, оме грунте) | D19: Расходные материалы | E19: 1 | F19: шт ( на 1 конкурсанта)
A20: 3 | B20: Крыло переднее (окрашенное) | C20: Крыло переднее в OEM грунте (новое) | D20: Расходные материалы | E20: 1 | F20: шт ( на 1 конкурсанта)
A21: 4 | B21: Деталь капот (новый, ОЕМ грунт) | C21: Автомобильный новый капот в ОЕМ грунте | D21: расходные материалы | E21: 1 | F21: шт ( на 1 конкурсанта)
A22: 5 | B22: Лак HS универсальный 1л +Отвердитель для лака HS 0,5 л | C22: 2К материалы для авторемонта | D22: Расходные материалы | E22: 1 | F22: шт ( на 1 конкурсанта)
A23: 6 | B23: HS VOC наполнитель шлифуемый серый 1л + Отвердители для наполнителей | C23: 2К материалы для авторемонта | D23: Расходные материалы | E23: 1 | F23: шт ( на 1 конкурсанта)
A24: 7 | B24: HS VOC наполнитель нешлиф. 1 л серый+Отвердители для наполнителей | C24: 2К материалы для авторемонта | D24: Расходные материалы | E24: 1 | F24: шт ( на 1 конкурсанта)
A25: 8 | B25: Антикоррозионный грунт 1 литр | C25: 2К материалы для авторемонта | D25: Расходные материалы | E25: 1 | F25: шт ( на 1 конкурсанта)
A26: 9 | B26: 1K аэрозоль грунт для пластмасс 0,4л | C26: 1K аэрозоль грунт в баллоне | D26: Расходные материалы | E26: 1 | F26: шт ( на 1 конкурсанта)
A27: 10 | B27: 1K аэрозоль грунт-наполнитель 0,4л | C27: 1K аэрозоль грунт в баллоне | D27: Расходные материалы | E27: 1 | F27: шт ( на 1 конкурсанта)
A28: 11 | B28: Шпатлёвка по мет. с отвердителем 1,0 кг | C28: 2К шпатлёвка с отвердителем | D28: Расходные материалы | E28: 1 | F28: шт ( на 1 конкурсанта)
A29: 12 | B29: Шпатлёвка по пластику с отвердителем 1,0 кг | C29: 2К шпатлёвка с отвердителем | D29: Расходные материалы | E29: 1 | F29: шт ( на 1 конкурсанта)
... A70: 53 | B70: Маскировочная пленка в рулонах | C70: Маскировочная пленка дла авторемонта, в рулоне | D70: расходные материалы | E70: 1 | F70: шт ( на 1 конкурсанта)
A71: 54 | B71: Базовая краска для крыла | C71: Базовая краска автомобильная неразбавленная | D71: Расходные материалы | E71: 400 | F71: шт ( на 1 конкурсанта) | H71: секретная позиция
A72: 55 | B72: Краска структурная для бампера | C72: Базовая краска автомобильная неразбавленная | D72: Расходные материалы | E72: 100 | F72: шт ( на 1 конкурсанта) | H72: секретная позиция
A73: 56 | B73: Базовая краска для бампера | C73: Базовая краска автомобильная неразбавленная | D73: Расходные материалы | E73: 300 | F73: шт ( на 1 конкурсанта) | H73: секретная позиция
A74: 57 | B74: Базовая краска для капота | C74: Базовая краска автомобильная неразбавленная | D74: Расходные материалы | E74: 700 | F74: шт ( на 1 конкурсанта) | H74: секретная позиция
A75: 58 | B75: Поролоновый валик для проёмов | C75: 13мм валик для маскирования проёмов, на поролоновой основе | D75: расходные материалы | E75: 1 | F75: шт ( на 1 конкурсанта)
A76: 59 | B76: Топливо для ОСК | C76: дизельное топливо согласно спецификации на окрасочную камеру | D76: Расходные материалы | E76: 50 | F76: л ( на 1 конкурсанта)
A77: Расходные материалы на всех конкурсантов и экспертов
A78: № | B78: Наименование | C78: Краткие (рамочные) технические характеристики | D78: Вид | E78: Количество | F78: Единица измерения | G78: Итоговое количество | H78: Рекомендации представителей индустрии (указывается конкретное оборудование)
A79: 1 | B79: Ручки | C79: офисные пластиковые | D79: Расходные материалы | E79: 5 | F79: шт
A80: 2 | B80: Карандаши | C80: офисные твердость НВ | D80: Расходные материалы | E80: 5 | F80: шт
...

Sheet Личный инструмент участника
A1: ПРОЕКТ
A2: Инфраструктурный лист для оснащения конкурсной площадки
A3: ='Информация о Чемпионате'!B4 -> Региональный
A4: по компетенции
A5: ='Информация о Чемпионате'!B3 -> Окраска автомобиля
A6: Личный инструмент конкурсанта
A7: № | B7: Наименование | C7: Краткие (рамочные) технические характеристики | D7: Вид | E7: Количество | F7: Единица измерения | G7: Примечание
A8: 1 | B8: Краскопульт для нанесения базы HVLP с манометром | C8: Краскопульт малярный для нанесения ЛКМ с системой быстрого разьема | D8: Оборудование | E8: 1 | F8: шт.
A9: 2 | B9: Краскопульт для нанесения базы MiniJet HVLP с манометром | C9: Краскопульт малярный для нанесения ЛКМ с системой быстрого разьема | D9: Оборудование | E9: 1 | F9: шт.
A10: 3 | B10: Краскопульт для нанесения лака RP с манометром | C10: Краскопульт малярный для нанесения ЛКМ с системой быстрого разьема | D10: Оборудование | E10: 1 | F10: шт.
A11: 4 | B11: Краскопульт для нанесения наполнителя 1,7-1,9 с манометром | C11: Краскопульт малярный для нанесения ЛКМ с системой быстрого разьема | D11: Оборудование | E11: 1 | F11: шт.
A12: 5 | B12: Антигравийный пистолет с манометром | C12: Пистолет малярный для нанесения антиграфия с системой быстрого разьема | D12: Оборудование | E12: 1 | F12: шт.
A13: 6 | B13: Пистолет для нанесения герметика с манометром | C13: Пистолет воздушщный малярный для нанесения герметика со сменными носиками с системой быстрого разьема | D13: Оборудование | E13: 1 | F13: шт.
A14: 7 | B14: Закрытая маска, полумаска для окраски | C14: Для малярных работ. Соответствует требованиям ОТиТБ | D14: Охрана труда | E14: 1 | F14: шт.
A15: 8 | B15: Ботинки для работы с железным мысом | C15: Для малярных работ. Соответствует требованиям ОТиТБ | D15: Охрана труда | E15: 1 | F15: шт.
A16: 9 | B16: Держатели окрасочных пистолетов (магнитный) | C16: Для малярных работ | D16: Оборудование | E16: 2 | F16: шт.
A17: 10 | B17: Обдувочный пистолет | C17: Для малярных работ с системой быстрого разьема | D17: Оборудование | E17: 1 | F17: шт.
A18: 11 | B18: Малярный нож сменными лезвиями | C18: Для малярных работ нож сменными лезвиями | D18: Оборудование | E18: 1 | F18: шт.
A19: 12 | B19: Набор метал.шпателей | C19: Для малярных работ. В комплекте 4 шпателя | D19: Оборудование | E19: 1 | F19: компл.
... A30: 23 | B30: Нитриловые перчатки | C30: Для малярных работ соответствует требованиям ОТиТБ. | D30: Охрана труда | E30: 20 | F30: шт.
