Workbook

Sheet Информация о Чемпионате
A3: Компетенция | B3: Окраска автомобиля
A4: Наименование этапа Чемпионата | B4: Региональный
A5: Субъект РФ (регион проведения)
A6: Базовая организация расположения конкурсной площадки
A7: Адрес конкурсной площадки
A8: Даты проведения
A9: Главный эксперт
A10: Электронная почта ГЭ
A11: Моб.телефон ГЭ
A12: Технический администратор площадки
A13: Электронная почта ТАП
A14: Моб.телефон ТАП
A15: Количество конкурсантов (команд)
A16: Количество рабочих мест
... A25: ТАП - технический администратор площадки

Sheet Общая инфраструктура
A1: ПРОЕКТ
A2: Инфраструктурный лист для оснащения конкурсной площадки
A3: ='Информация о Чемпионате'!B4 -> Региональный
A4: по компетенции
A5: ='Информация о Чемпионате'!B3 -> Окраска автомобиля
A6: Основная информация о конкурсной площадке:
A7: Субъект Российской Федерации: | C7: ='Информация о Чемпионате'!B5 -> 0
A8: Базовая организация расположения конкурсной площадки: | D8: ='Информация о Чемпионате'!B6 -> 0
A9: Адрес базовой организации: | C9: ='Информация о Чемпионате'!B7 -> 0
A10: Главный эксперт: | C10: ='Информация о Чемпионате'!B9 -> 0 | E10: ='Информация о Чемпионате'!B10 -> 0 | G10: ='Информация о Чемпионате'!B11 -> 0
A11: Технический администратор площадки: | C11: ='Информация о Чемпионате'!B12 -> 0 | E11: ='Информация о Чемпионате'!B13 -> 0 | G11: ='Информация о Чемпионате'!B14 -> 0
A12: Количество экспертов (ЭН+ГЭ+ИЭ) + ТАП: | C12: ='Информация о Чемпионате'!B17 -> 0
A13: Количество конкурсантов (команд): | C13: ='Информация о Чемпионате'!B15 -> 0
A14: Количество рабочих мест: | C14: ='Информация о Чемпионате'!B16 -> 0
A15: Даты проведения: | C15: ='Информация о Чемпионате'!B8 -> 0
A16: Общая зона конкурсной площадки (оборудование, инструмент, мебель)
A17: Требования к обеспечению зоны (коммуникации, площадь, сети, количество рабочих мест и др.):
A18: Площадь зоны: не менее 250 кв.м.
A19: Освещение: Допустимо верхнее искусственное освещение ( не менее 900 люкс)
A20: Интернет : Подключение ноутбуков к беспроводному интернету (с возможностью подключения к проводному интернету)
A21: Электричество: ___ подключения к сети по (220 Вольт и 380 Вольт)
A22: Контур заземления для электропитания и сети слаботочных подключений (при необходимости) : не требуется
A23: Покрытие пола: ковролин - ___ кв.м на всю зону
A24: Подведение/ отведение ГХВС (при необходимости): требуется/не требуется
A25: Подведение сжатого воздуха (при необходимости): требуется/не требуется
A26: № | B26: Наименование | C26: Краткие (рамочные) технические характеристики | D26: Вид | E26: Количество | F26: Единица измерения | G26: Итоговое количество | H26: Рекомендации представителей индустрии (указывается конкретное оборудование)
A27: 1 | B27: ОСК (Окрасочно-сушильная камера) | C27: Минимальные размеры кабины внутренние (Д х Ш х В), мм - 6000 x 4000 x 2500. Металлическое основание с трапами или установка в бетонный приямок. Решетчатый пол. Освещение не менее 1000 люкс. Приточный вентилятор, м3/ч - не менее 18000. Вытяжной вентилятор, м3/ч - не менее 10000. Питание, В 380;. Система нагрева - дизель/газ/ТЭН. | D27: Оборудование | E27: 1 | F27: шт. | H27: ОСК (дизельные)
A28: 2 | B28: Комперессор воздушный | C28: Винтовой компрессор с ресивером и осушителем, производительность на 4 рабочих места не менее 1000 л/мин. Ресивер объёмом не менее 500 л. | D28: Оборудование | E28: 1 | F28: шт.
A29: 3 | B29: Пост подготовки к окраске | C29: Минимальный размер внутренний (Д х Ш х В), мм - 6000 x 4000 x 2500. с вытяжкой и освещением не менее 1000 люкс. Приточный вентилятор, м3/ч - не менее 15000. Подогрев опционально. | D29: Оборудование | E29: 1 | F29: шт.
A30: 4 | B30: Весы для смешивания | C30: Весы электронные профессионыльные Дискретность показаний г 0,1. 0,05 г. Значение внешнего веса для юстировки / класс точности кг 1, 2, 5 / F2 или выше Размер чаши весов диаметр в мм - 233 Вес нетто кг 2,4 | D30: Оборудование | E30: 2 | F30: шт.
A31: 5 | B31: Устройство для очистки краскопультов | C31: Установка для мойки краскопультов от лакокрасочных материалов (ЛКМ), на основе растворителей и на водной основе. Корпус из оцинкованной стали. Подача растворителя: отработанный растворитель, чистый растворитель в смеси с воздухом, чистый растворитель. Давление не менее 4 бар. | D31: Оборудование | E31: 1 | F31: шт.
A32: 6 | B32: ИК -Сушка | C32: Габариты в мм - 3200х4250х1490. Рабочий диапазон, мм - 800х800 Потребляемая мощность, кВт - 2,2. Напряжение, Вольт - 220-380. Рабочая температура окр.воздуха, °C 40-75. Расстояние до нагреваемой детали, мм, 450-650. Таймер- 0-60 мин. | D32: Оборудование | E32: 2 | F32: шт.
A33: 7 | B33: Диспенсер для маскирующей бумаги | C33: Металический передвижной каркас, количество держателей рулонов - 1. Для бумаги рамером 30/40/60 | D33: Оборудование | E33: 1 | F33: шт.
A34: 8 | B34: Диспенсер для маскирующей плёнки | C34: Металический передвижной каркас, количество держателей рулонов - 1. Для пленки | D34: Оборудование | E34: 1 | F34: шт.
A35: 9 | B35: Диспенсер для салфеток напольный | C35: Металический передвижной каркас, количество держателей рулонов - 1. Для салфеток | D35: Оборудование | E35: 1 | F35: шт.
A36: 10 | B36: Точка подачи сжатого воздуха в ОСК | C36: С регулятором давления не менее 4 атм .б/с разъёмы | D36: Оборудование | E36: 1 | F36: шт.
A37: 11 | B37: Шланг с быстросъём. разъёмами в ОСК | C37: Форма прямой. Длина≥ 15 м. Максимальное давление≥ 60 бар. Материал армированный ПВХ | D37: Оборудование | E37: 4 | F37: шт.
A38: 12 | B38: Стол металл. | C38: Размер стандартный. Верстак металлический Размер 1200 x 600 x 600 | D38: Мебель | E38: 1 | F38: шт.
A39: 13 | B39: Стол металлический Х образный | C39: Стол металлический Х образный. Размер стандартный | D39: Мебель | E39: 1 | F39: шт.
... A45: 19 | B45: Ящики пластиковые | C45: Пластиковые стойкие к растворителю 600х400х300 штабелируемые | D45: Оборудование | E45: 2 | F45: шт
A46: 20 | B46: Кулер для воды напольный | C46: Куллер для воды с электрическим охлаждением и нагревом с диспенсером на 19л | D46: Мебель | E46: 1 | F46: шт | H46: Типовая позиция
A47: Комната Конкурсантов (оборудование, инструмент, мебель) (по количеству конкурсантов)
A48: Требования к обеспечению зоны (коммуникации, площадь, сети, количество рабочих мест и др.):
A49: Площадь зоны: не менее 15 кв.м.
A50: Освещение: Допустимо верхнее искусственное освещение ( не менее 700 люкс)
A51: Интернет : Подключение ноутбуков к беспроводному интернету (с возможностью подключения к проводному интернету)
A52: Электричество: ___ подключения к сети по (220 Вольт и 380 Вольт)
A53: Контур заземления для электропитания и сети слаботочных подключений (при необходимости) : не требуется
A54: Покрытие пола: ковролин - ___ кв.м. на всю зону
A55: Подведение/ отведение ГХВС (при необходимости): требуется/не требуется
A56: Подведение сжатого воздуха (при необходимости): требуется/не требуется
A57: № | B57: Наименование | C57: Краткие (рамочные) технические характеристики | D57: Вид | E57: Количество | F57: Единица измерения | G57: Итоговое количество | H57: Рекомендации представителей индустрии (указывается конкретное оборудование)
A58: 1 | B58: Вешалка гардеробная | C58: Габариты (ШхВхГ) 1200 мм х 1800 мм х 600 мм Каркас сварной металлический из профильной трубы квадратного сечения Сечение трубы каркаса (ШхВ) 25 мм х 25 мм Конструкция каркаса состоит из двух боковин, каждая из которых имеет горизонтальный элемент, к которому приварены 2 вертикальных элемента, между которых монтируется в верхней части панель Материал панели ЛДСП Толщина панели 16 мм Торцы панели облицованы кромкой Тип кромки торцов панели ПВХ Толщина кромки на скрытых и видимых торцах панели 0,45 и 2 мм К панели закреплены крючки металлические Количество крючков с каждой стороны 6 шт Торцы труб каркаса закрыты заглушками пластиковыми Металлические элементы каркаса окрашены порошковой краской | D58: Мебель | E58: 1 | F58: шт. | H58: Типовая позиция
A59: 2 | B59: Стол - тип 2 | C59: Ширина стола 1400 мм Глубина стола 650 мм Высота стола 750 мм Конструкция каркаса представляет собой боковые опоры, царгу На каркас устанавливается столешница прямоугольной формы Материал изготовления столешницы ламинированная фанера Толщина столешницы 15 мм Торцы столешницы имеют завал, торец зашлифован, имеет покрытие лаком бесцветным либо закрашен краской Материал изготовления боковин ЛДСП Толщина боковин 16 мм Торцы боковин облицованы кромочным материалом Тип кромочного материала боковин ПВХ Толщина кромки на скрытых и видимых торцах боковин 0,45 мм Высота боковин 735 мм Между боковин установлена царга Материал изготовления царги ЛДСП Толщина царги 16 мм Торцы царги облицованы кромочным материалом Тип кромочного материала царги ПВХ Толщина кромки на скрытых и видимых торцах царги 0,45 мм Сборка осуществляется на шкант твердолиственных пород дерева, эксцентрик и шток Диаметр х Длина шканта 8 мм х 30 мм Диаметр х Высота эксцентрика 15 мм х 12,5 мм Шлиц эксцентрика крестообразный Диаметр х Длина штока 6 мм х 34 мм В основание конструкции врезаны регулируемые опоры, в комплект которых входят футорки и ножки мебельные Футорки изготовлены из стали, представляют собой втулку с наружной резьбой для вкручивания в боковину и с внутренней резьбой для ввинчивания в нее резьбовой части мебельной ножки Наружный диаметр футорки 8,5 мм Внутренний диаметр футорки 6 мм Высота футорки 15 мм Материал изготовления ножек металл Диаметром резьбы ввинчиваемой части ножек в футорку 6 мм Длина резьбы ввинчиваемой части ножек в футорку 19 мм Высота шляпки ножки 8 мм | D59: Мебель | E59: 2 | F59: шт. | H59: Типовая позиция
A60: 3 | B60: Стул - тип 1 | C60: Конструкция состоит из каркаса, сиденья и спинки Каркас сварной Сиденье и спинка равной ширины Вид каркаса изготовлен из металлической плоскоовальной трубы Сечение труб каркаса (ШхВ) 30 мм х 15 мм Толщина стенки трубы каркаса 1,2 мм Покрытие каркаса порошковой краской Количество слоев покрытия каркаса 2 слоя Опоры каркаса «П-образной» формы (вид сбоку), соединённые трубами круглого сечения Диаметр труб для соединения опор каркаса 18 мм Толщина стенки труб для соединения опор каркаса 1,2 мм Опоры каркаса оборудованы наружными пластиковыми заглушками (для фиксации трубы внутри заглушки сделаны упоры) Заглушки не деформируют напольное покрытие Толщина внешних стенок заглушек 2 мм Заглушки надеваются на глубину глубже 20 мм Цвет заглушек черный Сиденье и спинка представляют собой 2 элемента из монолитного полипропилена Поверхность сиденья и спинки шагрень Высота от пола до сиденья 460 мм Ширина сиденья 460 мм Глубина сиденья 420 мм Вид сиденья имеет скругленный край Ширина спинки 460 мм Высота спинки 275 мм Спинка прямоугольной формы со скругленными углами Спинка стула имеет эргономичный изгиб под спину Материал мягкого наполнения сиденья и спинки поролон Плотность мягкого наполнения сиденья и спинки 25-40 кг/м3 Толщина мягкого наполнения сиденья 30 мм Толщина мягкого наполнения спинки 30 мм Материал обивки сиденья и спинки искусственная кожа Толщина обивки 0,8 мм Нагрузка на стул до 120 кг | D60: Мебель | E60: 5 | F60: шт. | H60: Типовая позиция
A61: 4 | B61: Корзина для мусора 14л | C61: Корзина для мусора должна быть объемом не менее 13 л и не более 14,5 л и изготовлена из полипропилена. Корзина должна быть предназначена для утилизации и временного хранения мусора. Подходит для использования в любых помещениях. Должна быть легкая, прочная, отличный вариант для офиса и дома. Корпус должен расширяться к верху, без перфорации. Корзина должна быть круглой формы размер диаметра по верхнему краю не менее 29 см, диаметр дна не более 19 см, высота должна быть 30 см. Цвет корзины должен быть черный. Ширина и высота рекомендуемого мешка не более 47*55 мм. Объем рекомендуемого мешка не более 28 л. | D61: Мебель | E61: 1 | F61: шт. | H61: Типовая позиция
A62: 5 | B62: Сетевой фильтр | C62: 6 розеток, длина кабеля 5м | D62: Оборудование IT | E62: 2 | F62: шт. | H62: Типовая позиция
A63: 6 | B63: Запираемый шкафчик (локер) - тип 2 | C63: Габариты (ШхГхВ) 300 мм х 490 мм х 1850 мм Конструкция каркаса представляет собой две боковины, перегородку, дно Материал изготовления каркаса ЛДСП Толщина элементов каркаса 16 мм Торцы каркаса облицованы кромкой Тип кромки торцов каркаса ПВХ Толщина кромки на скрытых и видимых торцах каркаса 0,45 мм Материал топа ЛДСП Толщина топа 16 мм Торцы топа облицованы кромкой Тип кромки торцов топа ПВХ Толщина кромки на скрытых и видимых торцах топа 0,45 и 2 мм Внутреннее наполнение разделено тремя горизонтальными элементами на четыре равных между собой ячеек Каждая ячейка закрыта фасадом и запирается на замок Материал изготовления фасадов ЛДСП Толщина фасадов 16 мм Торцы фасадов облицованы кромкой Тип кромки торцов фасадов ПВХ Толщина кромки на скрытых и видимых торцах фасадов 0,45 мм Вид фасадов навешиваются на петли Все шарниры петель имеют трехмерное регулирование с устройством, фиксирующим фасад в закрытом состоянии и предотвращающим самопроизвольное открывание Материал чашки петли никелированная сталь Угол открывания петли каждого фасада 95 градусов Каждый фасад оснащен металлической ручкой дугообразной формы Межосевое расстояние ручек 96 мм Сборка осуществляется на шкант твердолиственных пород дерева, эксцентрик и шток Диаметр х Длина шканта 8 мм х 30 мм Диаметр х Высота эксцентрика 15 мм х 12,5 мм Шлиц эксцентрика крестообразный Диаметр х Длина штока 6 мм х 34 мм В основание конструкции врезаны регулируемые опоры, в комплект которых входят футорки и ножки мебельные Футорки изготовлены из стали, представляют собой втулку с наружной резьбой для вкручивания в боковину и с внутренней резьбой для ввинчивания в нее резьбовой части мебельной ножки Наружный диаметр футорки 8,5 мм Внутренний диаметр футорки 6 мм Высота футорки 15 мм Материал изготовления ножек металл Диаметром резьбы ввинчиваемой части ножек в футорку 6 мм Длина резьбы ввинчиваемой части ножек в футорку 19 мм Высота шляпки ножки 8 мм | D63: Мебель | E63: 5 | F63: шт. | H63: Типовая позиция
A64: Комната Экспертов (включая комнату Главного эксперта) (оборудование, инструмент, мебель) (по количеству экспертов)
A65: Требования к обеспечению зоны (коммуникации, площадь, сети, количество рабочих мест и др.):
A66: Площадь зоны: не менее 9 кв.м.
A67: Освещение: Допустимо верхнее искусственное освещение ( не менее 700 люкс)
A68: Интернет : Подключение ноутбуков к беспроводному интернету (с возможностью подключения к проводному интернету)
A69: Электричество: ___ подключения к сети по (220 Вольт и 380 Вольт)
A70: Контур заземления для электропитания и сети слаботочных подключений (при необходимости) : не требуется
A71: Покрытие пола: ковролин - ___ кв.м. на всю зону
A72: Подведение/ отведение ГХВС (при необходимости) : требуется/не требуется
A73: Подведение сжатого воздуха (при необходимости): требуется/не требуется
A74: № | B74: Наименование | C74: Краткие (рамочные) технические характеристики | D74: Вид | E74: Количество | F74: Единица измерения | G74: Итоговое количество | H74: Рекомендации представителей индустрии (указывается конкретное оборудование)
A75: 1 | B75: Вешалка гардеробная | C75: Габариты (ШхВхГ) 1200 мм х 1800 мм х 600 мм Каркас сварной металлический из профильной трубы квадратного сечения Сечение трубы каркаса (ШхВ) 25 мм х 25 мм Конструкция каркаса состоит из двух боковин, каждая из которых имеет горизонтальный элемент, к которому приварены 2 вертикальных элемента, между которых монтируется в верхней части панель Материал панели ЛДСП Толщина панели 16 мм Торцы панели облицованы кромкой Тип кромки торцов панели ПВХ Толщина кромки на скрытых и видимых торцах панели 0,45 и 2 мм К панели закреплены крючки металлические Количество крючков с каждой стороны 6 шт Торцы труб каркаса закрыты заглушками пластиковыми Металлические элементы каркаса окрашены порошковой краской | D75: мебель | E75: 1 | F75: шт. | H75: Типовая позиция
A76: 2 | B76: Стол - тип 2 | C76: Ширина стола 1400 мм Глубина стола 650 мм Высота стола 750 мм Конструкция каркаса представляет собой боковые опоры, царгу На каркас устанавливается столешница прямоугольной формы Материал изготовления столешницы ламинированная фанера Толщина столешницы 15 мм Торцы столешницы имеют завал, торец зашлифован, имеет покрытие лаком бесцветным либо закрашен краской Материал изготовления боковин ЛДСП Толщина боковин 16 мм Торцы боковин облицованы кромочным материалом Тип кромочного материала боковин ПВХ Толщина кромки на скрытых и видимых торцах боковин 0,45 мм Высота боковин 735 мм Между боковин установлена царга Материал изготовления царги ЛДСП Толщина царги 16 мм Торцы царги облицованы кромочным материалом Тип кромочного материала царги ПВХ Толщина кромки на скрытых и видимых торцах царги 0,45 мм Сборка осуществляется на шкант твердолиственных пород дерева, эксцентрик и шток Диаметр х Длина шканта 8 мм х 30 мм Диаметр х Высота эксцентрика 15 мм х 12,5 мм Шлиц эксцентрика крестообразный Диаметр х Длина штока 6 мм х 34 мм В основание конструкции врезаны регулируемые опоры, в комплект которых входят футорки и ножки мебельные Футорки изготовлены из стали, представляют собой втулку с наружной резьбой для вкручивания в боковину и с внутренней резьбой для ввинчивания в нее резьбовой части мебельной ножки Наружный диаметр футорки 8,5 мм Внутренний диаметр футорки 6 мм Высота футорки 15 мм Материал изготовления ножек металл Диаметром резьбы ввинчиваемой части ножек в футорку 6 мм Длина резьбы ввинчиваемой части ножек в футорку 19 мм Высота шляпки ножки 8 мм | D76: мебель | E76: 1 | F76: шт. | H76: Типовая позиция
A77: 3 | B77: Стул - тип 1 | C77: Конструкция состоит из каркаса, сиденья и спинки Каркас сварной Сиденье и спинка равной ширины Вид каркаса изготовлен из металлической плоскоовальной трубы Сечение труб каркаса (ШхВ) 30 мм х 15 мм Толщина стенки трубы каркаса 1,2 мм Покрытие каркаса порошковой краской Количество слоев покрытия каркаса 2 слоя Опоры каркаса «П-образной» формы (вид сбоку), соединённые трубами круглого сечения Диаметр труб для соединения опор каркаса 18 мм Толщина стенки труб для соединения опор каркаса 1,2 мм Опоры каркаса оборудованы наружными пластиковыми заглушками (для фиксации трубы внутри заглушки сделаны упоры) Заглушки не деформируют напольное покрытие Толщина внешних стенок заглушек 2 мм Заглушки надеваются на глубину глубже 20 мм Цвет заглушек черный Сиденье и спинка представляют собой 2 элемента из монолитного полипропилена Поверхность сиденья и спинки шагрень Высота от пола до сиденья 460 мм Ширина сиденья 460 мм Глубина сиденья 420 мм Вид сиденья имеет скругленный край Ширина спинки 460 мм Высота спинки 275 мм Спинка прямоугольной формы со скругленными углами Спинка стула имеет эргономичный изгиб под спину Материал мягкого наполнения сиденья и спинки поролон Плотность мягкого наполнения сиденья и спинки 25-40 кг/м3 Толщина мягкого наполнения сиденья 30 мм Толщина мягкого наполнения спинки 30 мм Материал обивки сиденья и спинки искусственная кожа Толщина обивки 0,8 мм Нагрузка на стул до 120 кг | D77: мебель | E77: 4 | F77: шт. | H77: Типовая позиция
A78: 4 | B78: Корзина для мусора 14л | C78: Корзина для мусора должна быть объемом не менее 13 л и не более 14,5 л и изготовлена из полипропилена. Корзина должна быть предназначена для утилизации и временного хранения мусора. Подходит для использования в любых помещениях. Должна быть легкая, прочная, отличный вариант для офиса и дома. Корпус должен расширяться к верху, без перфорации. Корзина должна быть круглой формы размер диаметра по верхнему краю не менее 29 см, диаметр дна не более 19 см, высота должна быть 30 см. Цвет корзины должен быть черный. Ширина и высота рекомендуемого мешка не более 47*55 мм. Объем рекомендуемого мешка не более 28 л. | D78: Канцелярия | E78: 1 | F78: шт. | H78: Типовая позиция
A79: 5 | B79: МФУ Лазерное А4 - Тип 2 | C79: Технология печати - Лазерная Цветность печати - Цветная Максимальный формат печати - А4 Факс - Наличие Способ подключения - USB, Ethernet, Wi-Fi Режим сканирования - На USB-накопитель; В сетевую папку; На электронную почту; Скорость черно-белой печати в формате А4 по ISO/IEC 24734 стр/мин ≥ 22 Количество печати страниц в месяц стр ≥ 30000 Возможность автоматической двухсторонней печати - Наличие Устройство автоподачи сканера - Наличие Емкость устройства автоматической подачи документов лист ≥ 50 Суммарная емкость лотков подачи бумаги для печати стр ≥ 251 ЖК-дисплей - Наличие Время выхода первого черно-белого отпечатка сек ≤ 11 Совместимые операционные системы - Windows; Mac OS Поддерживаемая предельная плотность бумаги г/м2 ≥176 Частота процессора МГц ≥ 1000 Количество ядер процессора шт ≥ 2 Объем установленной оперативной памяти МБ ≥ 512 | D79: Оборудование IT | E79: 1 | F79: шт. | H79: Типовая позиция
A80: 6 | B80: Ноутбук - тип 1 | C80: Наименование характеристики Единица измерения Предлагаемое значение Количество ядер процессора Штука 4 Количество потоков процессора Штука 8 Объем кэш памяти третьего уровня процессора (L3) Мегабайт 8 Частота процессора базовая Гигагерц 2,4 Частота процессора максимальная Гигагерц 4,2 Общий объем установленной оперативной памяти Гигабайт 8 Частота ОЗУ максимальная Гигагерц 3,2 Объем SSD накопителя Гигабайт 256 Наличие встроенного устройства для чтения карт памяти - Да Разрешение вэб-камеры Мпиксель 2 Встроенный модуль беспроводной связи с поддержкой 802.11ax - Да Версия Bluetooth - 5,2 Количество встроенных в корпус портов USB 3.2 Gen 1 (USB 3.1 Gen 1, USB 3.0) Штука 2 Количество встроенных в корпус портов USB Type-C Штука 2 Количество аудио разъёмов Штука 1 Количество разъёмов HDMI Штука 1 Наличие Touchpad с функцией распознавания нескольких касаний - Да Русифицированная полноразмерная клавиатура с цифровым блоком и подсветкой - Да Количество встроенных динамиков Штука 2 Количество встроенных микрофонов Штука 2 Диагональ экрана Дюйм 15,6 Разрешение экрана Пиксель 1920 x 1080 Матовый экран - Да Емкость батареи Ватт-час 53 Размеры Мм 360 х 234 х18,6 Вес Кг 1,7 Наличие в реестре российской радиоэлектронной продукции или реестре промышленной продукции, произведенной на территории Российской Федерации или в реестр промышленной продукции, произведенной на территории государства - члена Евразийского экономического союза», Участник в составе заявки предоставляет копии выписки из Реестра с указанием № реестровой записи и даты внесения в Реестр на предлагаемый к поставке Товар. - Да | D80: Оборудование IT | E80: 1 | F80: шт. | H80: Типовая позиция
A81: 7 | B81: Коврик для мыши | C81: Коврик для мыши должен быть с прошитыми краями и гладким влагоотталкивающим покрытием Speed для максимальной скорости перемещения мыши. Материал поверхности должна быть ткань (шелк). Основание ковра должно быть выполнено из вспененной натуральной резины высокой плотности. Уникальная резиновая основа должна не позволять коврику скользить по столу. Влагоотталкивающее покрытие должно быть устойчиво к загрязнениям. Специальное покрытие должно легко очищаться от загрязнений и не деформироваться при попадании на него жидкости. Размеры коврика должны быть не менее 265*315*2,7 мм и не более 272*322*3,1 мм. Цвет коврика должен быть черный. Наличие шумопоглощения при приземлении мыши и сглаживания мелких неровностей поверхности стола. Наличие индивидуальной упаковки размером не более 5*5*27,3 см. | D81: Оборудование IT | E81: 1 | F81: шт. | H81: Типовая позиция
A82: 8 | B82: Мышь компьютерная - тип 1 | C82: Тип сенсора - Оптический Интерфейс подключения - Беспроводная (радио) Разрешения сенсора Точек/дюйм ≥ 1000 | D82: Оборудование IT | E82: 1 | F82: шт. | H82: Типовая позиция
A83: 9 | B83: Сетевой фильтр | C83: 6 розеток, длина кабеля 5м | D83: Оборудование IT | E83: 1 | F83: шт. | H83: Типовая позиция
A84: Охрана труда и техника безопасности
A85: № | B85: Наименование | C85: Краткие (рамочные) технические характеристики | D85: Вид | E85: Количество | F85: Единица измерения | G85: Итоговое количество | H85: Рекомендации представителей индустрии (указывается конкретное оборудование)
A86: 1 | B86: Аптечка | C86: Аптечка первой помощи работникам должна соответствовать приказу Минздрава России от 15.12.2020 №1331н «Об утверждении требований к комплектации медицинскими изделиями аптечки для оказания первой помощи работникам». Должна представлять собой бокс из полистирола с наполнением. Бокс должен надежно защищать медицинские изделия от влияния внешних факторов, что способствует их сохранности. Размер бокса должен быть: длина не менее 285 мм, ширина не более 100 мм, высота не менее 255 мм. Состав наполнения должен быть: маска медицинская нестерильная одноразовая не менее 10 шт., перчатки медицинские нестерильные, размером не менее М не менее 2 пары, устройство для проведения искусственного дыхания «Рот-Устройство-Рот» не менее 1 шт., жгут кровоостанавливающий для остановки артериального кровотечения не менее 1 шт., бинт марлевый медицинский размером не менее 5 м х 10 см не менее 4 шт., бинт марлевый медицинский размером не менее 7 м х 14 см не менее 4 шт., салфетки марлевые медицинские стерильные размером не менее 16×14 см № 10 не менее 2 упак., лейкопластырь фиксирующий рулонный размером не менее 2×500 см не менее 1 шт., лейкопластырь бактерицидный размером не менее 1,9×7,2 см не менее 10 шт., лейкопластырь бактерицидный размером не менее 4×10 см не менее 2 шт., покрывало спасательное изотермическое размером не менее 160×210 см не менее 2 шт., ножницы для разрезания повязок не менее 1 шт., инструкция по оказанию первой помощи с применением аптечки для оказания первой помощи работникам. Аптечка должна быть рассчитана на количество до 10 чел. | D86: Охрана труда | E86: 1 | F86: шт
A87: 2 | B87: Огнетушитель | C87: Огнетушитель углекислотный должен быть закачной огнетушитель высокого давления с зарядом жидкой двуокиси углерода (ГОСТ 8050-85), находящейся под давлением жидких паров. Должен применяться для первичного тушения пожаров и возгораний класса B, C, E (горючие и легковоспламеняющиеся жидкости, горючие газы, электроустановки, не превышающие напряжение 10000 Вольт). Углекислотный огнетушитель должен быть предназначен для быстрого охлаждения поверхности и рассеивания газа. Благодаря действию диоксида углерода материальные ценности практически не разрушаются, на них не остается разводов и пятен. Возгорание прекращается за счет охлаждения области горения. Огнетушитель особенно эффективен для локализации пожара на начальной стадии и тех видов возгорания, где запрещено применение воды. Конструкция должна быть переносной. Материал корпуса должен быть изготовлен из металла. Максимальная длина струи огнетушителя не менее 2 м. Продолжительность подачи огнетушащего вещества должна быть не менее 6 с. Максимальная масса заряженного огнетушителя должна быть не более 4,5 кг. Должен быть выполнен в цилиндрическом корпусе красного цвета. Диаметр должен быть 92 мм. Объем не менее 1,34 л. Вес пустого баллона не более 3,5 кг. | D87: Охрана труда | E87: 1 | F87: шт
A88: 3 | B88: Кулер 19 л (холодная/горячая вода) | C88: критически важные характеристики позиции отсутствуют | D88: Охрана труда | E88: 1 | F88: шт
A89: Складское помещение
A90: Требования к обеспечению зоны (коммуникации, площадь, сети, количество рабочих мест и др.):
A91: Площадь зоны: не менее 4 кв.м.
A92: Освещение: Допустимо верхнее искусственное освещение ( не менее 500 люкс)
A93: Интернет : Подключение ноутбуков к беспроводному интернету (с возможностью подключения к проводному интернету)
A94: Электричество: ___ подключения к сети по (220 Вольт и 380 Вольт)
A95: Контур заземления для электропитания и сети слаботочных подключений (при необходимости) : не требуется
A96: Покрытие пола: ковролин - ___ кв.м. на всю зону
A97: Подведение/ отведение ГХВС (при необходимости): требуется/не требуется
A98: Подведение сжатого воздуха (при необходимости): требуется/не требуется
A99: № | B99: Наименование | C99: Краткие (рамочные) технические характеристики | D99: Вид | E99: Количество | F99: Единица измерения | G99: Итоговое количество | H99: Рекомендации представителей индустрии (указывается конкретное оборудование)
A100: 1 | B100: Стеллаж 4 полки | C100: Материал изготовления металл Габаритная ширина изделия 1000 мм Габаритная высота изделия 2000 мм Глубина изделия 450 мм Вид стеллажа окрашен порошковой/полимерной краской Стеллаж комплектуется четырьмя стойками, полками, четырьмя подпятниками, крепежом, уголками жёсткости Стойки имеют сложный фигурный профиль Шаг перфорации стоек 25 мм Диаметр перфорации стоек 7 мм Полки стеллажа из стального листа Крепление полки к стеллажу производится при помощи крепежных уголков Эксплуатационная нагрузка на полку до 150 кг Элементы стеллажей не имеют острых углов и кромок Окрашенные поверхности стеллажей однородные, ровные, без подтёков, пятен и пузырей Отслаивание и шелушение покрытий отсутствует Конструкция стеллажей позволяет крепить их между собой и к капитальным конструкциям зданий По трём сторонам на каждом уровне хранения ограничители, представляющие собой стальные пластины, закрепленные к стойкам | D100: Мебель | E100: 1 | F100: шт | H100: Типовая позиция
A101: 2 | B101: Ящики пластиковые | C101: Наименование характеристики Единица измерения Требуемое значение Длина мм ≥ 600 Ширина мм ≥ 400 Высота мм ≥ 300 Материал - пластик | D101: Мебель | E101: 4 | F101: шт | H101: Типовая позиция

Sheet Рабочее место конкурсантов
A1: ПРОЕКТ
A2: Инфраструктурный лист для оснащения конкурсной площадки
A3: ='Информация о Чемпионате'!B4 -> Региональный
A4: по компетенции
A5: ='Информация о Чемпионате'!B3 -> Окраска автомобиля
A6: Основная информация о конкурсной площадке:
A7: Субъект Российской Федерации: | C7: ='Информация о Чемпионате'!B5 -> 0
A8: Базовая организация расположения конкурсной площадки: | D8: ='Информация о Чемпионате'!B6 -> 0
A9: Адрес базовой организации: | C9: ='Информация о Чемпионате'!B7 -> 0
A10: Главный эксперт: | C10: ='Информация о Чемпионате'!B9 -> 0 | E10: ='Информация о Чемпионате'!B10 -> 0 | G10: ='Информация о Чемпионате'!B11 -> 0
A11: Технический администратор площадки: | C11: ='Информация о Чемпионате'!B12 -> 0 | E11: ='Информация о Чемпионате'!B13 -> 0 | G11: ='Информация о Чемпионате'!B14 -> 0
A12: Количество экспертов (ЭН+ГЭ+ИЭ) + ТАП: | C12: ='Информация о Чемпионате'!B17 -> 0
A13: Количество конкурсантов (команд): | C13: ='Информация о Чемпионате'!B15 -> 0
A14: Количество рабочих мест: | C14: ='Информация о Чемпионате'!B16 -> 0
A15: Даты проведения: | C15: ='Информация о Чемпионате'!B8 -> 0
A16: Рабочее место Конкурсанта (основное оборудование, вспомогательное оборудование, инструмент (по количеству рабочих мест))
A17: Требования к обеспечению зоны (коммуникации, площадь, сети, количество рабочих мест и др.):
A18: Площадь зоны: не менее 6 кв.м.
A19: Освещение: Допустимо верхнее искусственное освещение ( не менее 1000 люкс)
A20: Интернет : Подключение ноутбуков к беспроводному интернету (с возможностью подключения к проводному интернету)
A21: Электричество: ___ подключения к сети по (220 Вольт и 380 Вольт)
A22: Контур заземления для электропитания и сети слаботочных подключений (при необходимости) : не требуется
A23: Покрытие пола: ковролин - ___ кв.м. на всю зону
A24: Подведение/ отведение ГХВС (при необходимости): требуется/не требуется
A25: Подведение сжатого воздуха (при необходимости): требуется/не требуется
A26: № | B26: Наименование | C26: Краткие (рамочные) технические характеристики | D26: Вид | E26: Количество | F26: Единица измерения | G26: Итоговое количество | H26: Рекомендации представителей индустрии (указывается конкретное оборудование)
A27: 1 | B27: Рабочие столы стойкие к растворителям | C27: Металлические стойкие к растворителям. Размер стандартный. Наименование характеристики Размеры внешние 866x1200x697 (ВхШхГ). Максимальная нагрузка на полку ≥ 100 кг. Нагрузка на верстак >750 кг | D27: Оборудование | E27: 1 | F27: шт ( на 1 раб.место)
A28: 2 | B28: Поворотный Стол-подставка для окраски деталей | C28: Размер в сложенном виде 1225х245х165 мм. Размер в развернутом виде 2250х950х880мм Материал изготовления- оцинкованная сталь. Колеса для перемещения | D28: Оборудование | E28: 1 | F28: шт ( на 1 раб.место)
A29: 3 | B29: Поворотный Стол-Х образный для окраски деталей | C29: Грузоподъемность ≥ 120кг. Размер в развернутом виде 1210 х 265 х 1140мм. Материал изготовления- оцинкованная сталь. Нагрузка >120кг | D29: Оборудование | E29: 1 | F29: шт ( на 1 раб.место)
A30: 4 | B30: Точка подачи сжатого воздуха в зоне подготовки | C30: С регулятором давления не менее 4 атм .б/с разъёмы | D30: Оборудование | E30: 4 | F30: шт ( на 1 раб.место)
A31: 5 | B31: Воздушный шланг в зоне подготовки | C31: Брендовый шланг с б/с разъёмами. Максимальное давление не менее 8 бар, внутренний диаметр не менее 9мм, длинна шланга не менее 10 метров. | D31: Оборудование | E31: 4 | F31: шт ( на 1 раб.место)
A32: 6 | B32: Контейнер с крышкой для отработанных салфеток | C32: Пластиковый с крышкой 120л. Наличие крышки. Педальный механизм. Наличие колес. | D32: Оборудование | E32: 1 | F32: шт ( на 1 раб.место)
A33: 7 | B33: Пылесос (рабочая станция) | C33: Вес, кг не более 12. Возможность работы без мешка. Возможность сбора жидкости. Диаметр всасывающего шланга, мм 50. Мощность, Вт не менее 1500. Объем бака, л не менее 20. Регулировка мощности. Розетка для электроинструмента. Автоматическое включение от машинки. Тип пылесборника мешок/контейнер. Питание 220 В. | D33: Оборудование | E33: 1 | F33: шт ( на 1 раб.место)
A34: 8 | B34: Шлифок ручной короткий | C34: Шлифок ручной пластиковый с пылеотводом для пылесоса. Наименование характеристики Длина подошвы 125х70. Крепление шлифлиста липучка | D34: Оборудование | E34: 1 | F34: шт ( на 1 раб.место)
A35: 9 | B35: Шлифок ручной средний | C35: Шлифок ручной пластиковый с пылеотводом для пылесоса. Наименование характеристики Длина подошвы 198х70. Крепление шлифлиста липучка. | D35: Оборудование | E35: 1 | F35: шт ( на 1 раб.место)
A36: 10 | B36: Подложка промежуточная, демпфирующая | C36: Мягкая соответствует производителю инстр. для абразивных кругов | D36: Оборудование | E36: 1 | F36: шт ( на 1 раб.место)
A37: 11 | B37: Шлифовальная эксцентриковая машинка 3 мм | C37: Машинка эксцентриковая ход 3мм. Наименование характеристики Напряжение 220В. Диаметр диска 150мм. Электр. регулировка оборотов. Диапазон оборотов ≥ 5000 - ≤ 10000 об/мин | D37: Оборудование | E37: 1 | F37: шт ( на 1 раб.место)
A38: 12 | B38: Помпа для очистителя без силикона | C38: Помпа. Тип ручной. Наличие Объем бака 1л. Материал пластик | D38: Оборудование | E38: 2 | F38: шт ( на 1 раб.место)
... A43: 17 | B43: Сварочные зажимные клещи | C43: Сварочные зажимные клещи металлические с фиксатором | D43: Оборудование | E43: 1 | F43: шт ( на 1 раб.место)
A44: 18 | B44: Электрический паяльник с регулировкой температуры без дополнительных комплектующих и аксесуаров | C44: Электрический паяльник с регулировкой температуры >100Вт. Наименование характеристики. Длина> 600мм. Материал металл | D44: Оборудование | F44: шт ( на 1 раб.место)
A45: 19 | B45: Ящики пластиковые | C45: Пластиковые стойкие к растворителю 600х400х300 штабелируемые Материал пластик | D45: Оборудование | E45: 1 | F45: шт ( на 1 раб.место)
A46: Охрана труда и техника безопасности
A47: № | B47: Наименование | C47: Краткие (рамочные) технические характеристики | D47: Вид | E47: Количество | F47: Единица измерения | G47: Итоговое количество | H47: Рекомендации представителей индустрии (указывается конкретное оборудование)
A48: 1 | B48: Аптечка | C48: критически важные характеристики позиции отсутствуют | D48: Охрана труда | E48: 1 | F48: шт
A49: 2 | B49: Огнетушитель | C49: критически важные характеристики позиции отсутствуют | D49: Охрана труда | E49: 1 | F49: шт
A50: 3 | B50: Кулер 19 л (холодная/горячая вода) | C50: критически важные характеристики позиции отсутствуют | D50: Охрана труда | E50: 1 | F50: шт

Sheet Расходные материалы
A1: ПРОЕКТ
A2: Инфраструктурный лист для оснащения конкурсной площадки
A3: ='Информация о Чемпионате'!B4 -> Региональный
A4: по компетенции
A5: ='Информация о Чемпионате'!B3 -> Окраска автомобиля
A6: Основная информация о конкурсной площадке:
A7: Субъект Российской Федерации: | C7: ='Информация о Чемпионате'!B5 -> 0
A8: Базовая организация расположения конкурсной площадки: | D8: ='Информация о Чемпионате'!B6 -> 0
A9: Адрес базовой организации: | C9: ='Информация о Чемпионате'!B7 -> 0
A10: Главный эксперт: | C10: ='Информация о Чемпионате'!B9 -> 0 | E10: ='Информация о Чемпионате'!B10 -> 0 | G10: ='Информация о Чемпионате'!B11 -> 0
A11: Технический администратор площадки: | C11: ='Информация о Чемпионате'!B12 -> 0 | E11: ='Информация о Чемпионате'!B13 -> 0 | G11: ='Информация о Чемпионате'!B14 -> 0
A12: Количество экспертов (ЭН+ГЭ+ИЭ) + ТАП: | C12: ='Информация о Чемпионате'!B17 -> 0
A13: Количество конкурсантов (команд): | C13: ='Информация о Чемпионате'!B15 -> 0
A14: Количество рабочих мест: | C14: ='Информация о Чемпионате'!B16 -> 0
A15: Даты проведения: | C15: ='Информация о Чемпионате'!B8 -> 0
A16: Рабочее место Конкурсанта (расходные материалы по количеству конкурсантов)
A17: № | B17: Наименование | C17: Краткие (рамочные) технические характеристики | D17: Вид | E17: Количество | F17: Единица измерения | G17: Итоговое количество | H17: Рекомендации представителей индустрии (указывается конкретное оборудование)
A18: 1 | B18: Деталь бампер (новый не структурный) | C18: Бампер ЗАДНИЙ новый (окрашенный) | D18: Расходные материалы | E18: 1 | F18: шт ( на 1 конкурсанта)
A19: 2 | B19: Крыло переднее ( новый, ОЕМ грунте) | C19: Дверь передня ( новый, оме грунте) | D19: Расходные материалы | E19: 1 | F19: шт ( на 1 конкурсанта)
A20: 3 | B20: Крыло переднее (окрашенное) | C20: Крыло переднее в OEM грунте (новое) | D20: Расходные материалы | E20: 1 | F20: шт ( на 1 конкурсанта)
A21: 4 | B21: Деталь капот (новый, ОЕМ грунт) | C21: Автомобильный новый капот в ОЕМ грунте | D21: расходные материалы | E21: 1 | F21: шт ( на 1 конкурсанта)
A22: 5 | B22: Лак HS универсальный 1л +Отвердитель для лака HS 0,5 л | C22: 2К материалы для авторемонта | D22: Расходные материалы | E22: 1 | F22: шт ( на 1 конкурсанта)
A23: 6 | B23: HS VOC наполнитель шлифуемый серый 1л + Отвердители для наполнителей | C23: 2К материалы для авторемонта | D23: Расходные материалы | E23: 1 | F23: шт ( на 1 конкурсанта)
A24: 7 | B24: HS VOC наполнитель нешлиф. 1 л серый+Отвердители для наполнителей | C24: 2К материалы для авторемонта | D24: Расходные материалы | E24: 1 | F24: шт ( на 1 конкурсанта)
A25: 8 | B25: Антикоррозионный грунт 1 литр | C25: 2К материалы для авторемонта | D25: Расходные материалы | E25: 1 | F25: шт ( на 1 конкурсанта)
A26: 9 | B26: 1K аэрозоль грунт для пластмасс 0,4л | C26: 1K аэрозоль грунт в баллоне | D26: Расходные материалы | E26: 1 | F26: шт ( на 1 конкурсанта)
A27: 10 | B27: 1K аэрозоль грунт-наполнитель 0,4л | C27: 1K аэрозоль грунт в баллоне | D27: Расходные материалы | E27: 1 | F27: шт ( на 1 конкурсанта)
A28: 11 | B28: Шпатлёвка по мет. с отвердителем 1,0 кг | C28: 2К шпатлёвка с отвердителем | D28: Расходные материалы | E28: 1 | F28: шт ( на 1 конкурсанта)
A29: 12 | B29: Шпатлёвка по пластику с отвердителем 1,0 кг | C29: 2К шпатлёвка с отвердителем | D29: Расходные материалы | E29: 1 | F29: шт ( на 1 конкурсанта)
... A70: 53 | B70: Маскировочная пленка в рулонах | C70: Маскировочная пленка дла авторемонта, в рулоне | D70: расходные материалы | E70: 1 | F70: шт ( на 1 конкурсанта)
A71: 54 | B71: Базовая краска для крыла | C71: Базовая краска автомобильная неразбавленная | D71: Расходные материалы | E71: 400 | F71: шт ( на 1 конкурсанта) | H71: секретная позиция
A72: 55 | B72: Краска структурная для бампера | C72: Базовая краска автомобильная неразбавленная | D72: Расходные материалы | E72: 100 | F72: шт ( на 1 конкурсанта) | H72: секретная позиция
A73: 56 | B73: Базовая краска для бампера | C73: Базовая краска автомобильная неразбавленная | D73: Расходные материалы | E73: 300 | F73: шт ( на 1 конкурсанта) | H73: секретная позиция
A74: 57 | B74: Базовая краска для капота | C74: Базовая краска автомобильная неразбавленная | D74: Расходные материалы | E74: 700 | F74: шт ( на 1 конкурсанта) | H74: секретная позиция
A75: 58 | B75: Поролоновый валик для проёмов | C75: 13мм валик для маскирования проёмов, на поролоновой основе | D75: расходные материалы | E75: 1 | F75: шт ( на 1 конкурсанта)
A76: 59 | B76: Топливо для ОСК | C76: дизельное топливо согласно спецификации на окрасочную камеру | D76: Расходные материалы | E76: 50 | F76: л ( на 1 конкурсанта)
A77: Расходные материалы на всех конкурсантов и экспертов
A78: № | B78: Наименование | C78: Краткие (рамочные) технические характеристики | D78: Вид | E78: Количество | F78: Единица измерения | G78: Итоговое количество | H78: Рекомендации представителей индустрии (указывается конкретное оборудование)
A79: 1 | B79: Ручки | C79: офисные пластиковые | D79: Расходные материалы | E79: 5 | F79: шт
A80: 2 | B80: Карандаши | C80: офисные твердость НВ | D80: Расходные материалы | E80: 5 | F80: шт
A81: 3 | B81: Бумага А4 | C81: офисная пачка 500л | D81: Расходные материалы | E81: 1 | F81: пачка
A82: 4 | B82: Ножницы | C82: офисные металлические | D82: Расходные материалы | E82: 1 | F82: шт
A83: Охрана труда и техника безопасности
A84: № | B84: Наименование | C84: Краткие (рамочные) технические характеристики | D84: Вид | E84: Количество | F84: Единица измерения | G84: Итоговое количество | H84: Рекомендации представителей индустрии (указывается конкретное оборудование)

Sheet Личный инструмент участника
A1: ПРОЕКТ
A2: Инфраструктурный лист для оснащения конкурсной площадки
A3: ='Информация о Чемпионате'!B4 -> Региональный
A4: по компетенции
A5: ='Информация о Чемпионате'!B3 -> Окраска автомобиля
A6: Личный инструмент конкурсанта
A7: № | B7: Наименование | C7: Краткие (рамочные) технические характеристики | D7: Вид | E7: Количество | F7: Единица измерения | G7: Примечание
A8: 1 | B8: Краскопульт для нанесения базы HVLP с манометром | C8: Краскопульт малярный для нанесения ЛКМ с системой быстрого разьема | D8: Оборудование | E8: 1 | F8: шт.
A9: 2 | B9: Краскопульт для нанесения базы MiniJet HVLP с манометром | C9: Краскопульт малярный для нанесения ЛКМ с системой быстрого разьема | D9: Оборудование | E9: 1 | F9: шт.
A10: 3 | B10: Краскопульт для нанесения лака RP с манометром | C10: Краскопульт малярный для нанесения ЛКМ с системой быстрого разьема | D10: Оборудование | E10: 1 | F10: шт.
A11: 4 | B11: Краскопульт для нанесения наполнителя 1,7-1,9 с манометром | C11: Краскопульт малярный для нанесения ЛКМ с системой быстрого разьема | D11: Оборудование | E11: 1 | F11: шт.
A12: 5 | B12: Антигравийный пистолет с манометром | C12: Пистолет малярный для нанесения антиграфия с системой быстрого разьема | D12: Оборудование | E12: 1 | F12: шт.
A13: 6 | B13: Пистолет для нанесения герметика с манометром | C13: Пистолет воздушщный малярный для нанесения герметика со сменными носиками с системой быстрого разьема | D13: Оборудование | E13: 1 | F13: шт.
A14: 7 | B14: Закрытая маска, полумаска для окраски | C14: Для малярных работ. Соответствует требованиям ОТиТБ | D14: Охрана труда | E14: 1 | F14: шт.
A15: 8 | B15: Ботинки для работы с железным мысом | C15: Для малярных работ. Соответствует требованиям ОТиТБ | D15: Охрана труда | E15: 1 | F15: шт.
A16: 9 | B16: Держатели окрасочных пистолетов (магнитный) | C16: Для малярных работ | D16: Оборудование | E16: 2 | F16: шт.
A17: 10 | B17: Обдувочный пистолет | C17: Для малярных работ с системой быстрого разьема | D17: Оборудование | E17: 1 | F17: шт.
A18: 11 | B18: Малярный нож сменными лезвиями | C18: Для малярных работ нож сменными лезвиями | D18: Оборудование | E18: 1 | F18: шт.
A19: 12 | B19: Набор метал.шпателей | C19: Для малярных работ. В комплекте 4 шпателя | D19: Оборудование | E19: 1 | F19: компл.
... A30: 23 | B30: Нитриловые перчатки | C30: Для малярных работ соответствует требованиям ОТиТБ. | D30: Охрана труда | E30: 20 | F30: шт.
