Workbook

Sheet Информация о Чемпионате
A3: Компетенция | B3: Плотницкое дело - юниоры
A4: Наименование этапа Чемпионата | B4: Региональный этап
A5: Субъект РФ (регион проведения)
A6: Базовая организация расположения конкурсной площадки
A7: Адрес конкурсной площадки
A8: Даты проведения
A9: Главный эксперт
A10: Электронная почта ГЭ
A11: Моб.телефон ГЭ
A12: Технический администратор площадки
A13: Электронная почта ТАП
A14: Моб.телефон ТАП
A15: Количество конкурсантов (команд) | B15: 5
A16: Количество рабочих мест | B16: 5
A17: Количество экспертов (ГЭ+ЭН+ИЭ+РГО(итоговый этап)+МЭ(финал)) + ТАП | B17: 8
A20: ЭН - эксперт-наставник
A21: ГЭ - главный эксперт
A22: ИЭ - индустриальный эксперт
A23: РГО - руководитель группы оценки
A24: МЭ - международный эксперт
A25: ТАП - технический администратор площадки

Sheet Общая инфраструктура
A1: ПРОЕКТ
A2: Инфраструктурный лист для оснащения конкурсной площадки
A3: ='Информация о Чемпионате'!B4 -> Региональный этап
A4: по компетенции
A5: ='Информация о Чемпионате'!B3 -> Плотницкое дело - юниоры
A6: Основная информация о конкурсной площадке:
A7: Субъект Российской Федерации: | C7: ='Информация о Чемпионате'!B5 -> 0
A8: Базовая организация расположения конкурсной площадки: | D8: ='Информация о Чемпионате'!B6 -> 0
A9: Адрес базовой организации: | C9: ='Информация о Чемпионате'!B7 -> 0
A10: Главный эксперт: | C10: ='Информация о Чемпионате'!B9 -> 0 | E10: ='Информация о Чемпионате'!B10 -> 0 | G10: ='Информация о Чемпионате'!B11 -> 0
A11: Технический администратор площадки: | C11: ='Информация о Чемпионате'!B12 -> 0 | E11: ='Информация о Чемпионате'!B13 -> 0 | G11: ='Информация о Чемпионате'!B14 -> 0
A12: Количество экспертов (ЭН+ГЭ+ИЭ) + ТАП: | C12: ='Информация о Чемпионате'!B17 -> 8
A13: Количество конкурсантов (команд): | C13: ='Информация о Чемпионате'!B15 -> 5
A14: Количество рабочих мест: | C14: ='Информация о Чемпионате'!B16 -> 5
A15: Даты проведения: | C15: ='Информация о Чемпионате'!B8 -> 0
A16: Общая зона конкурсной площадки (оборудование, инструмент, мебель)
A17: Требования к обеспечению зоны (коммуникации, площадь, сети, количество рабочих мест и др.):
A18: Площадь зоны: не менее 20 кв.м.
A19: Освещение: Допустимо верхнее искусственное освещение ( не менее 500 люкс)
A20: Интернет : Подключение ноутбуков к беспроводному интернету (с возможностью подключения к проводному интернету)
A21: Электричество: ___ подключения к сети по (220 Вольт)
A22: Контур заземления для электропитания и сети слаботочных подключений (при необходимости) : не требуется
A23: Покрытие пола: без особых требований на всю зону
A24: Подведение/ отведение ГХВС (при необходимости) : не требуется
A25: Подведение сжатого воздуха (при необходимости): не требуется
A26: № | B26: Наименование | C26: Краткие (рамочные) технические характеристики | D26: Вид | E26: Количество | F26: Единица измерения | G26: Итоговое количество | H26: Рекомендации представителей индустрии (указывается конкретное оборудование)
A27: 1 | B27: Стол для переговоров | C27: Стол для переговоров 1200*1200*750 мм | D27: Мебель | E27: 1 | F27: шт. | G27: 3 | H27: https://remi-m.ru/konferenc-zona/vito/stoly-v-office/peregovorov-vt-120-bn/
A28: 2 | B28: Офистный стул | C28: Офисный стул | D28: Мебель | E28: 1 | F28: шт. | G28: 15 | H28: https://meb-biz.ru/catalog/product/chair_from_cloth_grey_tc_2/
A29: 3 | B29: Стол для кофе брейка | C29: Офисный стол | D29: Мебель | E29: 1 | F29: шт. | G29: 1 | H29: https://www.felix.ru/catalogue/pismennye-stoly/stol-rabochiy-na-metallicheskikh-oporakh-belogo-tsveta-kvadratnogo-secheniya_1/
A30: 4 | B30: Ноутбук | C30: Ноутбук ASUS Laptop 15 X509MA-BR547T (Intel Pentium Silver N5030/15.6"/1366x768/4GB/256GB SSD/Intel UHD Graphics 605/Windows 10 Home) 90NB0Q33-M11180 | D30: Оборудование IT | E30: 1 | F30: шт. | G30: 1 | H30: https://market.yandex.ru/product--noutbuk-asus-laptop-15-x509/973482211?glfilter=6035003%3A17308961_101445642728&glfilter=6069383%3A17690626_101335831606&glfilter=14871214%3A14896336_101335831606&glfilter=24892510%3A24892690_101445642728&glfilter=34812830%3A36106326_101445642728&glfilter=36036031%3A36426399_101335831606&glfilter=37699070%3A37699070_Other_101445642728&sku=101335831606&cpa=1
A31: 5 | B31: Проектор | C31: Базовое разрешение: 1280x800 Широкоформатный | D31: Оборудование IT | E31: 1 | F31: шт. | G31: 1 | H31: https://www.dns-shop.ru/product/74e154c1e6b93330/proektor-acer-h5382bd-belyj/
A32: 6 | B32: Экран для проектора | C32: Размер не менее 84'' 4:3 | D32: Оборудование IT | E32: 1 | F32: шт. | G32: 1 | H32: https://www.ozon.ru/product/proektsionnyy-ekran-portativnyy-100-ekran-dlya-proektora-napolnyy-576747095/?advert=p18adkBsNHhbCgKzbCvwWAEogF9Njacwb21TuWB19mx6iUvkyNXzeBeXQ5rn-oCT6j13pCca6Or2taepDaKUcDhXaabIBGDdjUEm9h6zIH3vGTVnLXCpZwc7ExuYrGTcJLwvNG3-C3jjUIQfa0Ne3pIDL0sCkOWmWdvgGRVVFy56E0loquoGiGqTd0XRo1G7OUS33bWOYnVzbBtxWkpgJNd9-o_wQR8hLw5BuH2vcgCHh69udwM0DAvPsctKZhoMT7YSMQF0gVtuYe-zwUSImIC5bbhX0gOnUFTk1YHd8GVCgYGagCyVy5H39y0pt6Le-kP05383p9rfIY2Zsq15nIpcsBnu8veRWQa-cTf4VrFxUlqTRG1swQdVb1cVR5PQlVVS3olBkqz2abi2_ppMAtCz0-Z-n8n3oTZ059_TPerOFwCbhE2xq0oe9BlmCzgVngpdZ0CxSJ9L0_TMM_8VPAm70EKebU2F3DHsE8couSoaHIoGEezcWulXr32JSPtZ2HQ5p1fc6dtLwC6mDciojo0wCLAF44WkFlGxzK-88ZsDH-xFuOeadjBV_qWzems1_IdTKGXSnw1M5YhUUvtCSpW4rD_35OgMmLD_CU6DgCdimCmawYcwL3WZZmj7ZIbjTu5bazRjaDg5uG2PpMXfvNnKV8GV2ijSWLzDNxjw8d3mDrsP1-AXwv3QmezazmvN2P6px6REx7dwv4m1dEKSegamdCooDgzpM6m4Gvmqqr4&avtc=1&avte=2&avts=1674827537&sh=5cDQ2bhW3g
A33: 7 | B33: Удлинитель электрический | C33: Напряжение 220В; сила тока 16А; длинна 5м; количество евро-розеток (с заземлением) 6 шт. | D33: Оборудование IT | E33: 1 | F33: шт. | G33: 1 | H33: https://www.komus.ru/katalog/tekhnika/kompyutery-i-periferiya/silovoe-oborudovanie/setevye-filtry/setevoj-filtr-power-cube-spg-na-6-rozetok-5-metrov/p/956283/?from=block-123-1&qid=9902011583-0-1
A34: 8 | B34: Контейнер для мусора с крышкой | C34: Характеристики на усмотрение организатора | D34: Мебель | E34: 1 | F34: шт. | G34: 1 | H34: https://www.komus.ru/katalog/khozyajstvennye-tovary/meshki-i-emkosti-dlya-musora/vedra-dlya-bytovogo-musora/kontejner-dlya-musora-s-kryshkoj-vertushkoj-luscan-swing-50-l-plastik-seryj-40kh35kh73-sm-/p/1678911/?from=block-123-1&qid=7838069254-0-1
A35: 9 | B35: Часы | C35: Часы настенные | D35: Мебель | E35: 1 | F35: шт. | G35: 1 | H35: https://www.komus.ru/katalog/podarki-i-suveniry/dekor-interera/chasy/interernye-chasy/chasy-nastennye-troyka-78770783-30-5kh30-5kh5-sm-/p/654678/?from=block-123-2&qid=0020545908-0-2
A36: 10 | B36: Розетка | C36: Напряжение 230 В | D36: ПО | E36: 1 | F36: шт. | G36: 6
A37: 11 | B37: Флипчарт магнитно-маркерный | C37: Флипчарт магнитно-маркерный | D37: Мебель | E37: 1 | F37: шт. | G37: 1 | H37: https://www.komus.ru/katalog/demonstratsionnoe-oborudovanie/flipcharty-i-aksessuary/flipcharty/flipchart-magnitno-markernyj-70kh100-sm-na-rolikakh-attache/p/247011/?from=block-123-2&qid=7828450680-0-2
A38: Комната Конкурсантов (оборудование, инструмент, мебель) (по количеству конкурсантов)
A39: Требования к обеспечению зоны (коммуникации, площадь, сети, количество рабочих мест и др.):
A40: Площадь зоны: не менее 10 кв.м.
A41: Освещение: Допустимо верхнее искусственное освещение ( не менее 500 люкс)
A42: Интернет : Подключение ноутбуков к беспроводному интернету (с возможностью подключения к проводному интернету)
A43: Электричество: ___ подключения к сети по (220 Вольт т)
A44: Контур заземления для электропитания и сети слаботочных подключений (при необходимости) : не требуется
A45: Покрытие пола: без особых требований на всю зону
A46: Подведение/ отведение ГХВС (при необходимости) : не требуется
A47: Подведение сжатого воздуха (при необходимости): не требуется
A48: № | B48: Наименование | C48: Краткие (рамочные) технические характеристики | D48: Вид | E48: Количество | F48: Единица измерения | G48: Итоговое количество | H48: Рекомендации представителей индустрии (указывается конкретное оборудование)
A49: 1 | B49: Вешалка напольная | C49: Вешалка напольная, не менее 12 крючков, передвижная | D49: Мебель | E49: 1 | F49: шт. | G49: 1 | H49: https://www.komus.ru/katalog/mebel/mebel-dlya-obrazovatelnykh-uchrezhdenij/mebel-dlya-razdevalok/veshalki-garderobnye-dlya-razdevalok/veshalka-dlya-shkol-napolnaya-1-storonnyaya-klen-chernyj-1200kh275kh1600-mm-18-kryuchkov-/p/1136750/?from=block-123-1&qid=3511602538-0-1
A50: 2 | B50: Скамья | C50: Скамья, ширина, мм: 1500 | D50: Мебель | E50: 1 | F50: шт. | G50: 2 | H50: https://www.komus.ru/katalog/mebel/mebel-dlya-obrazovatelnykh-uchrezhdenij/mebel-dlya-stolovykh/stulya-taburety-skamejki-dlya-stolovykh/skamya-buk-seryj-1500kh320kh460-mm-/p/1533162/?from=block-123-1&qid=8462278170-0-1
A51: 3 | B51: Розетка | C51: Напряжение 230 В | D51: ПО | E51: 1 | F51: шт. | G51: 4
A52: 4 | B52: Шкаф для хранения личных вещей | C52: Характеристики на усмотрение организатора | D52: Мебель | E52: 1 | F52: шт. | G52: 2 | H52: https://www.komus.ru/katalog/mebel/metallicheskaya-mebel/shkafy-dlya-odezhdy/shkafy-metallicheskie-dlya-sumok/shkaf-dlya-sumok-shrm14-na-4-otdeleniya/p/34395/?from=block-123-1&qid=1628869134-0-1
A53: 5 | B53: Мусорная корзина | C53: Характеристики на усмотрение организатора | D53: Мебель | E53: 1 | F53: шт. | G53: 1 | H53: https://www.komus.ru/katalog/khozyajstvennye-tovary/meshki-i-emkosti-dlya-musora/korziny-dlya-bumag/korzina-dlya-musora-luscan-10-l-stal-chernaya-23-5x28-sm-/p/1586476/?from=block-123-2&qid=9661824024-0-2
A54: Комната Экспертов (включая комнату Главного эксперта) (оборудование, инструмент, мебель) (по количеству экспертов)
A55: Требования к обеспечению зоны (коммуникации, площадь, сети, количество рабочих мест и др.):
A56: Площадь зоны: не менее 15 кв.м.
A57: Освещение: Допустимо верхнее искусственное освещение ( не менее 500 люкс)
A58: Интернет : Подключение ноутбуков к беспроводному интернету (с возможностью подключения к проводному интернету)
A59: Электричество: подключения к сети по (220 Вольт)
A60: Контур заземления для электропитания и сети слаботочных подключений (при необходимости) : не требуется
A61: Покрытие пола: без особых требований на всю зону
A62: Подведение/ отведение ГХВС (при необходимости) : не требуется
A63: Подведение сжатого воздуха (при необходимости): не требуется
A64: № | B64: Наименование | C64: Краткие (рамочные) технические характеристики | D64: Вид | E64: Количество | F64: Единица измерения | G64: Итоговое количество | H64: Рекомендации представителей индустрии (указывается конкретное оборудование)
A65: 1 | B65: Ноутбук | C65: Ноутбук ASUS Laptop 15 X509MA-BR547T (Intel Pentium Silver N5030/15.6"/1366x768/4GB/256GB SSD/Intel UHD Graphics 605/Windows 10 Home) 90NB0Q33-M11180 | D65: Оборудование IT | E65: 1 | F65: шт. | G65: 2 | H65: https://market.yandex.ru/product--noutbuk-asus-laptop-15-x509/973482211?glfilter=6035003%3A17308961_101445642728&glfilter=6069383%3A17690626_101335831606&glfilter=14871214%3A14896336_101335831606&glfilter=24892510%3A24892690_101445642728&glfilter=34812830%3A36106326_101445642728&glfilter=36036031%3A36426399_101335831606&glfilter=37699070%3A37699070_Other_101445642728&sku=101335831606&cpa=1
A66: 2 | B66: Мышь беспроводная | C66: Мышь беспроводная | D66: Оборудование IT | E66: 1 | F66: шт. | G66: 2 | H66: https://www.komus.ru/katalog/tekhnika/kompyutery-i-periferiya/periferijnye-ustrojstva/myshi/myshi-besprovodnye/mysh-besprovodnaya-philips-spk7407b-01-chernaya/p/1706235/?tabId=specifications&from=block-123-1&qid=5098588590-0-1
A67: 3 | B67: МФУ | C67: МФУ лазерное, цветное, с возможность печати страниц формата А4 и А3, цветная печать | D67: Оборудование IT | E67: 1 | F67: шт. | G67: 1 | H67: https://www.dns-shop.ru/product/9410e1f804a73330/mfu-lazernoe-kyocera-ecosys-m8124cidn/
A68: 4 | B68: Запасной набор картриджей для МФУ | C68: Внести необходимую информацию | D68: Расходные материалы | E68: 1 | F68: шт. | G68: =E68 -> 1 | H68: https://market.yandex.ru/product--nabor-kartridzhei-ds-tk-8115/2000808112972?cpc=P-vFa-PmxaPDYrPuepN25uQrL37Gt0ZDa-LQ9HJSGfAU1IkhlOJU4iF6_WLIswd0006u3ft_BJ3YD96rXyqLRW55cT278LCHMQUWBn4x6-_rQptRNc8vnC8T6iFpjdVwC0XyN8_qiBX9FhLWxR_bGtjknVwkAXJJUjyEHvY8t94%2C&from-show-uid=16748282685808911691506001&sku=2000808112972&do-waremd5=ZqBIG6kLe-ln4uJK78ALUQ&sponsored=1&cpa=1
A69: 5 | B69: Офисный стол | C69: Офисный стол | D69: Мебель | E69: 1 | F69: шт. | G69: 3 | H69: https://www.felix.ru/catalogue/pismennye-stoly/stol-rabochiy-na-metallicheskikh-oporakh-belogo-tsveta-kvadratnogo-secheniya_1/
A70: 6 | B70: Офисный стул | C70: Офисный стул | D70: Мебель | E70: 1 | F70: шт. | G70: 9 | H70: https://meb-biz.ru/catalog/product/chair_from_cloth_grey_tc_2/
A71: 7 | B71: Вешалка напольная | C71: Вешалка напольная, не менее 12 крючков, передвижная | D71: Мебель | E71: 1 | F71: шт. | G71: 1 | H71: https://www.komus.ru/katalog/mebel/mebel-dlya-obrazovatelnykh-uchrezhdenij/mebel-dlya-razdevalok/veshalki-garderobnye-dlya-razdevalok/veshalka-dlya-shkol-napolnaya-1-storonnyaya-klen-chernyj-1200kh275kh1600-mm-18-kryuchkov-/p/1136750/?from=block-123-1&qid=3511602538-0-1
A72: 8 | B72: Флеш карта USB | C72: Флеш карта USB 3.0, объем 8 GB | D72: Оборудование IT | E72: 1 | F72: шт. | G72: 1 | H72: https://www.ozon.ru/product/flesh-nakopitel-usb-2-0-fumiko-tokyo-8gb-chernaya-708593594/?asb=JNdYnE8mNTRn6EFlFafMvwty8AqxDxLvIRq7zz6keACBWnLXeo6uNdcX21K6FPa3&asb2=5RlMwqJZ_Uj5GHmu93VvA5a8NveKuYNpzs_Mewzxl649an1IdHPogryeqRMUaVmOQI_m1bSgllFerYaLV-UmZsF8Kg00BdSBC13Cm-HT-R3uWNw_IabSg2jEuL3MspO2n2a2nJWjd1-P3upP_q9cabjve1FBjOBxBa4zxPb7fA0&avtc=1&avte=2&avts=1674828541&keywords=%D1%84%D0%BB%D0%B5%D1%88%D0%BA%D0%B0+8+%D0%B3%D0%B1+usb+3.0&sh=5cDQ2SkBIg
A73: 9 | B73: Мусорная корзина | C73: Характеристики на усмотрение организатора | D73: Мебель | E73: 1 | F73: шт. | G73: 1 | H73: https://www.komus.ru/katalog/khozyajstvennye-tovary/meshki-i-emkosti-dlya-musora/korziny-dlya-bumag/korzina-dlya-musora-luscan-10-l-stal-chernaya-23-5x28-sm-/p/1586476/?from=block-123-2&qid=9661824024-0-2
A74: 10 | B74: Розетки | C74: Напряжение 230 В | D74: ПО | E74: 1 | F74: шт. | G74: 4
A75: Охрана труда и техника безопасности
A76: № | B76: Наименование | C76: Краткие (рамочные) технические характеристики | D76: Вид | E76: Количество | F76: Единица измерения | G76: Итоговое количество | H76: Рекомендации представителей индустрии (указывается конкретное оборудование)
A77: 1 | B77: Аптечка первой помощи | C77: Внести необходимую информацию | D77: Охрана труда | E77: 1 | F77: шт | G77: 2 | H77: https://www.komus.ru/katalog/rabochaya-spetsodezhda-i-siz/sredstva-individualnoj-zashhity/aptechki-s-napolneniem/aptechki-fest/aptechka-pervoj-pomoshhi-rabotnikam-fest-prikaz-1331n-malyj-plastikovyj-boks-s-napolneniem-/p/1472653/?from=block-123-1&qid=9451871907-0-1
A78: 2 | B78: Огнетушитель | C78: Огнетушитель углекислотный ОУ-1 | D78: Охрана труда | E78: 1 | F78: шт | G78: 2 | H78: https://www.komus.ru/katalog/rabochaya-spetsodezhda-i-siz/sredstva-pozharnoj-bezopasnosti/ognetushiteli/ognetushiteli-ruchnye/ognetushitel-uglekislotnyj-yarpozhinvest-ou-1-vse/p/755060/?from=block-123-1&qid=6837495454-0-1
A79: 3 | B79: Кулер для воды | C79: Предназначен для 19л бутылей, горячая и холодная вода, питание 220В | D79: Инвентарь | E79: 1 | F79: шт. | G79: 2 | H79: https://www.komus.ru/katalog/tekhnika/bytovaya-tekhnika/kulery-purifajery-pompy-i-aksessuary/kulery-dlya-vody/kuler-dlya-vody-ael47-lkc-chernyj-serebristyj/p/1342809/?from=block-123-6&qid=8609156990-0-6
A80: Складское помещение
A81: Требования к обеспечению зоны (коммуникации, площадь, сети, количество рабочих мест и др.):
A82: Площадь зоны: не менее 10 кв.м.
A83: Освещение: Допустимо верхнее искусственное освещение ( не менее 300 люкс)
A84: Интернет : Подключение ноутбуков к беспроводному интернету (с возможностью подключения к проводному интернету)
A85: Электричество: 220 Вольт)
A86: Контур заземления для электропитания и сети слаботочных подключений (при необходимости) : не требуется
A87: Покрытие пола должно быть стойким к механическому воздействию и обеспечивать легкую уборку полов
A88: Подведение/ отведение ГХВС (при необходимости) : не требуется
A89: Подведение сжатого воздуха (при необходимости): не требуется
A90: № | B90: Наименование | C90: Краткие (рамочные) технические характеристики | D90: Вид | E90: Количество | F90: Единица измерения | G90: Итоговое количество | H90: Рекомендации представителей индустрии (указывается конкретное оборудование)
A91: 1 | B91: Стелаж | C91: Стеллаж металлический для хранения материалов и инструмента | D91: Мебель | E91: 1 | F91: шт | G91: 3 | H91: https://stel-teh.ru/catalog/stellazhi/stellazhi_dlya_instrumentov/stellazh_mkf_2100kg/

Sheet Рабочее место конкурсантов
A1: ПРОЕКТ
A2: Инфраструктурный лист для оснащения конкурсной площадки
A3: ='Информация о Чемпионате'!B4 -> Региональный этап
A4: по компетенции
A5: ='Информация о Чемпионате'!B3 -> Плотницкое дело - юниоры
A6: Основная информация о конкурсной площадке:
A7: Субъект Российской Федерации: | C7: ='Информация о Чемпионате'!B5 -> 0
A8: Базовая организация расположения конкурсной площадки: | D8: ='Информация о Чемпионате'!B6 -> 0
A9: Адрес базовой организации: | C9: ='Информация о Чемпионате'!B7 -> 0
A10: Главный эксперт: | C10: ='Информация о Чемпионате'!B9 -> 0 | E10: ='Информация о Чемпионате'!B10 -> 0 | G10: ='Информация о Чемпионате'!B11 -> 0
A11: Технический администратор площадки: | C11: ='Информация о Чемпионате'!B12 -> 0 | E11: ='Информация о Чемпионате'!B13 -> 0 | G11: ='Информация о Чемпионате'!B14 -> 0
A12: Количество экспертов (ЭН+ГЭ+ИЭ) + ТАП: | C12: ='Информация о Чемпионате'!B17 -> 8
A13: Количество конкурсантов (команд): | C13: ='Информация о Чемпионате'!B15 -> 5
A14: Количество рабочих мест: | C14: ='Информация о Чемпионате'!B16 -> 5
A15: Даты проведения: | C15: ='Информация о Чемпионате'!B8 -> 0
A16: Рабочее место Конкурсанта (основное оборудование, вспомогательное оборудование, инструмент (по количеству рабочих мест))
A17: Требования к обеспечению зоны (коммуникации, площадь, сети, количество рабочих мест и др.):
A18: Площадь зоны: не менее 12 кв.м.
A19: Освещение: Допустимо верхнее искусственное освещение ( не менее 500 люкс)
A20: Интернет : Подключение ноутбуков к беспроводному интернету (с возможностью подключения к проводному интернету)
A21: Электричество: 3 подключения к сети по 220 Вольт
A22: Контур заземления для электропитания и сети слаботочных подключений (при необходимости) : требуется
A23: Покрытие пола должно быть стойким к механическому воздействию и обеспечивать легкую уборку полов
A24: Подведение/ отведение ГХВС (при необходимости) : не требуется
A25: Подведение сжатого воздуха (при необходимости): не требуется
A26: № | B26: Наименование | C26: Краткие (рамочные) технические характеристики | D26: Вид | E26: Количество | F26: Единица измерения | G26: Итоговое количество | H26: Рекомендации представителей индустрии (указывается конкретное оборудование)
A27: ОБЩАЯ РАБОЧАЯ ПЛОЩАДКА КОНКУРСАНТОВ
A28: 1 | B28: Часы | C28: Электронный таймер, настенный, с функцией обратного отсчета времени. Часы должны быть видны всем конкурсантам | D28: Оборудование | E28: 1 | F28: шт ( на 1 раб.место) | G28: 1 | H28: https://eltablo.ru/sportivnye-chasy
A29: 2 | B29: Аккумуляторная дрель-шуруповёрт | C29: Крутящий момент мягкий, Нм 68 Крутящий момент жесткий, Нм 140 Макс. диаметр сверления (дерево) 76 Напряжение аккумулятора, В 40 Обороты 0-600/0-2200 Количество скоростей работы 2 Тип патрона быстрозажимной | D29: Оборудование | E29: 1 | F29: шт ( на 1 раб.место) | G29: 5 | H29: https://makitarussia.ru/product/udarnaya-drel-shurupovert-xgt-makita-hp001gd201/#item-tabs
A30: 3 | B30: Контейнер для мусора | C30: Пластиковый мусорный контейнер 240 - 360 л | D30: Оборудование | E30: 1 | F30: шт ( на 1 раб.место) | G30: 1 | H30: https://agropak.net/catalog/konteynery-musornye-baki/konteynery-dlya-tbo/musornyy-konteyner-360l/
A31: ОБОРУДОВАНИЕ И ИНСТРУМЕНТЫ (НА 1-О РАБОЧЕЕ МЕСТО)
A32: 1 | B32: Многофункциональный стол | C32: Мобильный верстак с возможностью зажимания для стационарных устройств, наличие отверстий для применения струбцин и т.п., для зажимания на плоскости, наличие прорези для монтажа торцовочной пилы | D32: Оборудование | E32: 1 | F32: шт ( на 1 раб.место) | G32: 5 | H32: https://ketershop.com/catalog/khranenie_instrumenta/verstaki_skladnye/
A33: 2 | B33: Верстак | C33: Столярный верстак с передними (фронтальными) тисками и задними (боковыми) тисками | D33: Оборудование | E33: 1 | F33: шт ( на 1 раб.место) | G33: 5 | H33: https://rubankov.ru/id/verstak-1500600mm-s-lotkom-pt---york-hv516-bt---york-hv516-3987.html
A34: 3 | B34: Струбцина рычажная (триггерная) | C34: Вид струбцины: F-образная Тип зажима:рычажный Ширина зажима 600 мм Назначение: по дереву | D34: Оборудование | E34: 2 | F34: шт ( на 1 раб.место) | G34: 10 | H34: https://www.vseinstrumenti.ru/product/f-obraznaya-rychazhnaya-strubtsina-120-h-600-mm-kovanaya-kobalt-249-099-850839/#characteristics
A35: 4 | B35: Совок для мусора | C35: Характеристики на усмотрение организатора | D35: Оборудование | E35: 1 | F35: шт ( на 1 раб.место) | G35: 5 | H35: https://www.komus.ru/katalog/khozyajstvennye-tovary/inventar-dlya-ulits-i-sadovykh-rabot/sovki-ulichnye/sovok-dlya-musora-rustrejd-si-00777-metall-okrashennyj-shirina-18-sm-ruchka-20-sm-/p/1553636/?from=block-123-1&qid=5562974931-0-1
A36: 5 | B36: Щетка малая | C36: Щетка сметка | D36: Оборудование | E36: 1 | F36: шт ( на 1 раб.место) | G36: 5 | H36: https://www.komus.ru/katalog/khozyajstvennye-tovary/shhetki-skrebki-i-sgony/shhetki-dlya-pola/shhetka-smetka-28-sm-shhetina-srednej-zhestkosti/p/1079650/?from=block-123-5&qid=3185522814-0-5
A37: 6 | B37: Щетка большая (швабра) | C37: Щетка для пола с длинной рукоятью | D37: Оборудование | E37: 1 | F37: шт ( на 1 раб.место) | G37: 5 | H37: https://www.komus.ru/search?sort=relevance&listingMode=PLAIN&page=&categoryFullTextSearch=1101&sortingParam=&q=&text=%D1%89%D0%B5%D1%82%D0%BA%D0%B0&qid=6213932989
A38: 7 | B38: Контейнер под мусор | C38: Пластиковый мусорный контейнер 45 - 60 л | D38: Оборудование | E38: 1 | F38: шт ( на 1 раб.место) | G38: 5 | H38: https://market.yandex.ru/product--konteiner-musornyi-peredvizhnoi-60-litrov/1773958463?cpc=tgz3ulFUMpw5MnMcIUWz5y6hQLoZXVHCPIWiADJpKCRU8a1iJpiojgcNplWzXtVMFMHSNLx97r4pjpUEWk2a5f-no6wLiXdsATiuN-1aVoztNiJEy0eUQ388CmQzJt8HbVmrdiRzHYukVxdWK8g_70Hv9sZb-Wyz9hVDl0E1ngg8PVzEMYXHFkMVd0XmxFzKiILgMwWLNoA%2C&from-show-uid=16756179028623879413400001&sku=101836891891&do-waremd5=LcoGN-cfO3qAHa6lOeGvDg&sponsored=1&cpa=1
A39: 8 | B39: Рулетка строительная с ценой деления 1 мм. | C39: Измерительная шкала сантиметры, цена деления 1 мм | D39: Инструмент | E39: 1 | F39: шт. | G39: 2 | H39: https://www.vseinstrumenti.ru/product/ruletka-gross-experte-3-m-x-19-mm-dvuhkomponentnyj-korpus-magnit-dvuhstoronnyaya-razmetka-nejlon-32574-1170201/
A40: 9 | B40: Линейка металлическая | C40: Металлическая измеритальная линейка, 1000 мм | D40: Инструмент | E40: 1 | F40: шт. | G40: 2 | H40: https://www.vseinstrumenti.ru/product/tselnometallicheskaya-linejka-1000-mm-gigant-gmr-1000-1139352/
A41: 10 | B41: Набор щупов | C41: Веерный щуп для для измерения зазоров, Min измерения 0,05 мм, Мах измерения 1 мм | D41: Инструмент | E41: 1 | F41: шт. | G41: 2 | H41: https://www.vseinstrumenti.ru/product/veernyj-schup-servis-klyuch-0-05-1-0mm-13-listov-v-blistere-70613-1390987/
A42: Охрана труда и техника безопасности
A43: № | B43: Наименование | C43: Краткие (рамочные) технические характеристики | D43: Вид | E43: Количество | F43: Единица измерения | G43: Итоговое количество | H43: Рекомендации представителей индустрии (указывается конкретное оборудование)
A44: 1 | B44: Аптечка первой помощи | C44: Внести необходимую информацию | D44: Охрана труда | E44: 1 | F44: шт | G44: 1 | H44: https://www.komus.ru/katalog/rabochaya-spetsodezhda-i-siz/sredstva-individualnoj-zashhity/aptechki-s-napolneniem/aptechki-fest/aptechka-pervoj-pomoshhi-rabotnikam-fest-prikaz-1331n-malyj-plastikovyj-boks-s-napolneniem-/p/1472653/?from=block-123-1&qid=9451871907-0-1
A45: 2 | B45: Огнетушитель | C45: Огнетушитель углекислотный ОУ-1 | D45: Охрана труда | E45: 1 | F45: шт | G45: 1 | H45: https://www.komus.ru/katalog/rabochaya-spetsodezhda-i-siz/sredstva-pozharnoj-bezopasnosti/ognetushiteli/ognetushiteli-ruchnye/ognetushitel-uglekislotnyj-yarpozhinvest-ou-1-vse/p/755060/?from=block-123-1&qid=6837495454-0-1

Sheet Расходные материалы
A1: ПРОЕКТ
A2: Инфраструктурный лист для оснащения конкурсной площадки
A3: ='Информация о Чемпионате'!B4 -> Региональный этап
A4: по компетенции
A5: ='Информация о Чемпионате'!B3 -> Плотницкое дело - юниоры
A6: Основная информация о конкурсной площадке:
A7: Субъект Российской Федерации: | C7: ='Информация о Чемпионате'!B5 -> 0
A8: Базовая организация расположения конкурсной площадки: | D8: ='Информация о Чемпионате'!B6 -> 0
A9: Адрес базовой организации: | C9: ='Информация о Чемпионате'!B7 -> 0
A10: Главный эксперт: | C10: ='Информация о Чемпионате'!B9 -> 0 | E10: ='Информация о Чемпионате'!B10 -> 0 | G10: ='Информация о Чемпионате'!B11 -> 0
A11: Технический администратор площадки: | C11: ='Информация о Чемпионате'!B12 -> 0 | E11: ='Информация о Чемпионате'!B13 -> 0 | G11: ='Информация о Чемпионате'!B14 -> 0
A12: Количество экспертов (ЭН+ГЭ+ИЭ) + ТАП: | C12: ='Информация о Чемпионате'!B17 -> 8
A13: Количество конкурсантов (команд): | C13: ='Информация о Чемпионате'!B15 -> 5
A14: Количество рабочих мест: | C14: ='Информация о Чемпионате'!B16 -> 5
A15: Даты проведения: | C15: ='Информация о Чемпионате'!B8 -> 0
A16: Рабочее место Конкурсанта (расходные материалы по количеству конкурсантов)
A17: № | B17: Наименование | C17: Краткие (рамочные) технические характеристики | D17: Вид | E17: Количество | F17: Единица измерения | G17: Итоговое количество | H17: Рекомендации представителей индустрии (указывается конкретное оборудование)
A18: 1 | B18: Древесина для выполнения заданий (См. лист Спецификация материалов) | C18: Древесина для выполнения задания. Материал заготовок: сосна/ель не ниже 1-2 сорта. Влажность не выше 10-12 %. Заготовки откалиброваны по ширине и толщине. Допустимые отклонения: по длине ± 2 мм; | D18: Расходные материалы | E18: 1 | F18: комплект ( на 1 конкурсанта) | G18: 5
A19: 2 | B19: Дополнительные комплекты пиломатериала для выполнения задания | C19: Дополнительные комплекты материала для выполнения задания необходимы на случай замены испорченных заготовок участником. Каждый участник имеет право просить замену 2-х любых заготовок. | D19: Расходные материалы | E19: 1 | F19: комплект ( на 1 конкурсанта) | G19: 2
A20: 3 | B20: Тестовый брусок | C20: Материал: сосна Размеры 1000 х 55 х 40 | D20: Расходные материалы | E20: 1 | F20: шт ( на 1 конкурсанта) | G20: 5
A21: 4 | B21: Зенкер-бит | C21: Зенкер по дереву | D21: Расходные материалы | E21: 1 | F21: шт ( на 1 конкурсанта) | G21: 5 | H21: https://www.vseinstrumenti.ru/product/zenker-po-derevu-i-tsvetnym-metallam-8-mm-hvostovik-8-mm-kwb-7042-10-724356/
A22: 5 | B22: Комплект свёрл | C22: Набор сверл по дереву Min диаметр 3 мм Max диаметр хвостовика 10 мм Max диаметр сверла 10 мм | D22: Расходные материалы | E22: 1 | F22: шт ( на 1 конкурсанта) | G22: 5 | H22: https://www.vseinstrumenti.ru/product/nabor-sverl-po-derevu-8-sht-3-10-mm-metabo-627202000-61111/#characteristics
A23: 6 | B23: Биты | C23: Характеритики бит должны соответствовать шлицам крепежа | D23: Расходные материалы | E23: 1 | F23: шт ( на 1 конкурсанта) | G23: 5 | H23: https://www.vseinstrumenti.ru/product/nabor-bit-15-predmetov-metabo-626703000-688709/#characteristics
A24: 7 | B24: Саморез оксидированный потайной (См. лист Спецификация материалов) | C24: Саморезы по дереву, шлиц PH2 или Саморез универсальный с потайной головкой шлиц Pz неполная резьба или Саморез Spax или Torx (Шуруп самонарезающий для дерева универсальный с потайной головкой неполная резьба) | D24: Расходные материалы | E24: 1 | F24: комплект ( на 1 конкурсанта) | G24: 5 | H24: https://leroymerlin.ru/product/zamok-vreznoy-suvaldnyy-zenit-zv9-4-2-85203407/
A25: Расходные материалы на всех конкурсантов и экспертов
A26: № | B26: Наименование | C26: Краткие (рамочные) технические характеристики | D26: Вид | E26: Количество | F26: Единица измерения | G26: Итоговое количество | H26: Рекомендации представителей индустрии (указывается конкретное оборудование)
A27: 1 | B27: «Касса цифр» с градацией 0-3 | C27: Веер с градацией 0-3 / либо блокнот формата А6 с напечатанными цифрами 0-3 | D27: Расходные материалы | E27: 1 | F27: шт. | G27: 3 | H27: https://www.komus.ru/katalog/tovary-dlya-doma/tovary-dlya-shkoly/schetnyj-material-i-uchebnaya-literatura/kassa-slogov-i-schetnogo-materiala/kassa-tsifr-veer-stamm-ot-1-do-20-/p/476889/?from=block-123-4&qid=1760814201-0-4
A28: 2 | B28: Бумага для офисной техники | C28: Бумага для офисной техники (А4, марка C, 80 г/кв.м, 500 листов) | D28: Расходные материалы | E28: 1 | F28: шт. | G28: 2 | H28: https://www.komus.ru/katalog/bumaga-i-bumazhnye-izdeliya/bumaga-dlya-ofisnoj-tekhniki/formatnaya-bumaga/bumaga-formatnaya-belaya-dlya-ofisnoj-tekhniki/bumaga-dlya-ofisnoj-tekhniki-svetocopy-a4-marka-c-80-g-kv-m-500-listov-/p/13500/?from=block-301-2&qid=8050052893-0-2
A29: 3 | B29: Бумага для офисной техники | C29: Бумага для офисной техники (А3, марка C, 80 г/кв.м, 500 листов) | D29: Расходные материалы | E29: 1 | F29: шт. | G29: 1 | H29: https://www.komus.ru/katalog/bumaga-i-bumazhnye-izdeliya/bumaga-dlya-ofisnoj-tekhniki/formatnaya-bumaga/bumaga-formatnaya-belaya-dlya-ofisnoj-tekhniki/bumaga-dlya-ofisnoj-tekhniki-svetocopy-a3-marka-c-80-g-kv-m-500-listov-/p/28993/?from=block-301-3&qid=1805680336-0-3
A30: 4 | B30: Бумага для флипчартов | C30: Бумага для флипчартов 67.5х98 см белая 50 листов в клетку (80 г/кв.м) | D30: Расходные материалы | E30: 1 | F30: шт. | G30: 1 | H30: https://www.komus.ru/katalog/demonstratsionnoe-oborudovanie/flipcharty-i-aksessuary/bloknoty-dlya-flipchartov/bumaga-dlya-flipchartov-attache-67-5kh98-sm-belaya-50-listov-v-kletku-80-g-kv-m-/p/445518/?from=block-123-2&qid=6092497238-0-2
A31: 5 | B31: Губка-стиратель для магнитно-маркерных досок | C31: Губка-стиратель для магнитно-маркерных досок | D31: Расходные материалы | E31: 1 | F31: шт. | G31: 1 | H31: https://www.komus.ru/katalog/demonstratsionnoe-oborudovanie/aksessuary-dlya-dosok/gubki-stirateli/gubka-stiratel-dlya-magnitno-markernykh-dosok-attache-magnitnaya-160x55x45-mm-/p/328745/?from=block-123-3&qid=2025251251-0-3
A32: 6 | B32: Зажимы для бумаг | C32: Зажимы для бумаг 15 мм (12 штук в упаковке) | D32: Расходные материалы | E32: 1 | F32: шт. | G32: 2 | H32: https://www.komus.ru/katalog/kantstovary/kantselyarskie-melochi/zazhimy-dlya-bumag/zazhimy-dlya-bumag-attache-economy-15-mm-chernye-12-shtuk-v-upakovke-/p/933324/?from=block-123-1&qid=3914858265-0-1
A33: 7 | B33: Карандаш чернографитный заточенный с ластиком | C33: Карандаш чернографитный заточенный с ластиком | D33: Расходные материалы | E33: 1 | F33: шт. | G33: 25 | H33: https://www.komus.ru/katalog/ruchki-karandashi-markery/-karandashi/karandashi-chernografitnye/karandash-chernografitnyj-attache-economy-hb-zatochennyj-s-lastikom-zheltyj-korpus-/p/1078921/?from=block-123-7&qid=3634982841-0-7
A34: 8 | B34: Ластик каучуковый | C34: Ластик каучуковый | D34: Расходные материалы | E34: 1 | F34: шт. | G34: 2 | H34: https://www.komus.ru/katalog/ruchki-karandashi-markery/lastiki-tochilki-linejki/lastiki/lastik-milan-8020-kauchukovyj-pryamougolnyj-63x24x9-mm/p/973186/?from=block-123-12&qid=7362530194-0-12
A35: 9 | B35: Лента клейкая оградительная | C35: Лента клейкая оградительная, 2 цветная, 50 мм x 50 м | D35: Расходные материалы | E35: 1 | F35: шт. | G35: 5 | H35: https://www.komus.ru/katalog/rabochaya-spetsodezhda-i-siz/signalnyj-inventar/lenty-dlya-ograzhdeniya-i-razmetki/lenta-klejkaya-ograditelnaya-unibob-zheltaya-chernaya-50-mm-x-50-m/p/517316/?from=block-123-1&qid=2005499246-0-1
A36: 10 | B36: Мешки для мусора | C36: Мешки для мусора на 60 л черные, в рулоне 20 шт | D36: Расходные материалы | E36: 1 | F36: шт. | G36: 2 | H36: https://www.komus.ru/katalog/khozyajstvennye-tovary/meshki-i-emkosti-dlya-musora/meshki-dlya-musora/meshki-na-50-75-litrov/meshki-dlya-legkogo-musora-na-50-75-litrov/meshki-dlya-musora-na-60-l-ekodom-chernye-pnd-7-mkm-v-rulone-20-sht-58kh68-sm-/p/767957/?from=block-123-1&qid=7044055534-0-1
A37: 11 | B37: Пакеты для мусора 120 л. | C37: Объем:120 л Количество в упаковке:10 шт | D37: Расходные материалы | E37: 1 | F37: шт. | G37: 2 | H37: https://www.vseinstrumenti.ru/product/meshki-osoboprochnye-chernye-dlya-stroitelnogo-musora-comfort-10-sht-120-l-stayer-39157-120-1226413/
A38: 12 | B38: Набор маркеров для белых досок | C38: Набор маркеров для белых досок | D38: Расходные материалы | E38: 1 | F38: шт. | G38: 1 | H38: https://www.komus.ru/katalog/ruchki-karandashi-markery/markery-dlya-dosok/markery-dlya-belykh-dosok/nabor-markerov-dlya-belykh-dosok-kores-6-tsvetov-tolshhina-linii-3-mm-kruglyj-nakonechnik/p/691268/?from=block-123-2&qid=7065832308-0-2
... A45: 19 | B45: Вода для кулера | C45: Вид воды: Артезианская Объём: 18.9 Упаковка: Индивидуальная упаковка Категория: Природная питьевая вода | D45: Расходные материалы | E45: 1 | F45: шт. | G45: 3 | H45: https://vodovoz.ru/catalog/pitevaya_voda_19_litrov/72216/
A46: Охрана труда и техника безопасности
A47: № | B47: Наименование | C47: Краткие (рамочные) технические характеристики | D47: Вид | E47: Количество | F47: Единица измерения | G47: Итоговое количество | H47: Рекомендации представителей индустрии (указывается конкретное оборудование)
A48: 1 | B48: Обувь рабочая | C48: Обувь рабочая, усиленная подноском, 200Дж | D48: СИЗ | E48: 1 | F48: шт ( на 1 конкурсанта) | G48: конкурсант привозит с собой | H48: http://www.spets-odezhda.ru/magazin/speczobuv/speczobuv-usilennaya-podnoskom/speczobuv-metallicheskij-podnosok/botinki-120-0184-01.html
A49: 2 | B49: Костюм рабочий | C49: Состав 100% ХБ Комплектность: Куртка, полукомбинезон | D49: СИЗ | E49: 1 | F49: шт ( на 1 конкурсанта) | G49: конкурсант привозит с собой | H49: https://planeta-sirius.spb.ru/catalog/spetsodezhda/spetsodezhda_letnyaya/kostyum_sirius_troya_kurtka_p_k_100_kh_b/
A50: 3 | B50: Футболка | C50: Футболка Состав 100% ХБ | D50: СИЗ | E50: 1 | F50: шт ( на 1 конкурсанта) | G50: конкурсант привозит с собой | H50: https://www.specodegda.ru/product/futbolka-prestizh-belaya/
A51: 4 | B51: Наушники противошумные | C51: Наушники защищают от воздействия шума, но дают возможность различать речь и сигналы опасности | D51: СИЗ | E51: 1 | F51: шт ( на 1 конкурсанта) | G51: конкурсант привозит с собой | H51: https://www.specodegda.ru/product/naushniki-protivoshumnye-somz-15-titan/
A52: 5 | B52: Защитные очки/ маска с безопасным стеклом | C52: Очки для защиты органов зрения от механических повреждений и неионизирующих излучений | D52: СИЗ | E52: 1 | F52: шт ( на 1 конкурсанта) | G52: конкурсант привозит с собой | H52: https://www.specodegda.ru/product/ochki-zashchitnye-otkrytye-univet-seriya-5x1-art-5h1030000-prozrachnye/
A53: 6 | B53: Наколенники* | C53: Наколенники для защиты коленей от травм | D53: СИЗ | E53: 1 | F53: шт ( на 1 конкурсанта) | G53: конкурсант привозит с собой | H53: https://www.specodegda.ru/product/nakolenniki-vkladnyje/
B54: * - не обязательно, рекомендуется

Sheet Личный инструмент участника
A1: ПРОЕКТ
A2: Инфраструктурный лист для оснащения конкурсной площадки
A3: ='Информация о Чемпионате'!B4 -> Региональный этап
A4: по компетенции
A5: ='Информация о Чемпионате'!B3 -> Плотницкое дело - юниоры
A6: Личный инструмент конкурсанта
A7: № | B7: Наименование | C7: Краткие (рамочные) технические характеристики | D7: Вид | E7: Количество | F7: Единица измерения | G7: Примечание
A8: 1 | B8: Карандаш простой | C8: Карандаш чернографитный заточенный с ластиком | D8: Расходные материалы | E8: количество на усмотрение участника | F8: шт.
A9: 2 | B9: Ластик | C9: Ластик каучуковый | D9: Расходные материалы | E9: количество на усмотрение участника | F9: шт.
A10: 3 | B10: Транспортир-угломер | C10: Тип:угломер-транспортир Угольник 45 градусов:да Цена деления:1 мм | D10: Инструмент | E10: количество на усмотрение участника | F10: шт.
A11: 4 | B11: Угольник | C11: Тип:угольник столярный Двусторонняя шкала :да Угольник 45 градусов:да | D11: Инструмент | E11: количество на усмотрение участника | F11: шт.
A12: 5 | B12: Циркуль | C12: Тип конструкции:дуговой Общая длина:250 мм Max ширина раскрытия:360 мм | D12: Инструмент | E12: количество на усмотрение участника | F12: шт.
A13: 6 | B13: Набор стамесок (6-25 мм) | C13: Набор стамесок долот Ширина режущей части: 6, 12, 18, 25 мм | D13: Инструмент | E13: количество на усмотрение участника | F13: шт.
A14: 7 | B14: Набор стамесок (32-60 мм) | C14: Набор стамесок долот Ширина режущей части: 32, 40, 50, 60 мм | D14: Инструмент | E14: количество на усмотрение участника | F14: шт.
A15: 8 | B15: Рубанки ручные | C15: Металлический рубанок для чистового ручного строгания древесины различных пород, а также для строгания торцов заготовок или торцов деталей в собранных изделиях (рамках, коробках и др.). | D15: Инструмент | E15: количество на усмотрение участника | F15: шт.
A16: 9 | B16: Струбцины | C16: Быстрозажимные рычажные струбцины | D16: Инструмент | E16: количество на усмотрение участника | F16: шт.
A17: 10 | B17: Малки ручные | C17: Тип: угломер разводной для измерения внутренних и наружных углов от 0 до 180 | D17: Инструмент | E17: количество на усмотрение участника | F17: шт.
A18: 11 | B18: Киянка | C18: Деревянная киянка или резиновая киянка для проведения финишных работ с хрупкими поверхностями | D18: Инструмент | E18: количество на усмотрение участника | F18: шт.
A19: 12 | B19: Ножовки ручные | C19: Ножовка ручная по дереву | D19: Инструмент | E19: количество на усмотрение участника | F19: шт.
... A21: 14 | B21: Рулетки, линейки, складные метры | C21: Характеристики на усмотрения участника | D21: Инструмент | E21: количество на усмотрение участника | F21: шт.
A22: 15 | B22: Шкурка, различной зернистости* | C22: Лист шлифовальный зернистость 100-240G | D22: Инструмент | E22: количество на усмотрение участника | F22: шт. | G22: * - не обязательно, рекомендуется
A23: 16 | B23: Точилка для карандашей* | C23: Характеристики на усмотрения участника | D23: Инструмент | E23: количество на усмотрение участника | F23: шт. | G23: * - не обязательно, рекомендуется
A24: 17 | B24: Стамеска-долото 6-60 мм* | C24: Характеристики на усмотрения участника | D24: Инструмент | E24: количество на усмотрение участника | F24: шт. | G24: * - не обязательно, рекомендуется
A25: 18 | B25: Молоток* | C25: Характеристики на усмотрения участника | D25: Расходные материалы | E25: количество на усмотрение участника | F25: шт. | G25: * - не обязательно, рекомендуется
A26: 19 | B26: Карандаши цветные* | C26: Характеристики на усмотрения участника | D26: Расходные материалы | E26: количество на усмотрение участника | F26: шт. | G26: * - не обязательно, рекомендуется
A27: 20 | B27: Скотч бумажный* | C27: Характеристики на усмотрения участника | D27: Расходные материалы | E27: количество на усмотрение участника | F27: шт. | G27: * - не обязательно, рекомендуется
A28: 21 | B28: Аккумуляторная дрель-шуруповёрт* | C28: Крутящий момент мягкий, Нм 68 Крутящий момент жесткий, Нм 140 Макс. диаметр сверления (дерево) 76 Напряжение аккумулятора, В 40 Обороты 0-600/0-2200 Количество скоростей работы 2 Тип патрона быстрозажимной | D28: Инструмент | E28: max 2 | F28: шт. | G28: * - не обязательно, рекомендуется

Sheet Спецификация материала
B2: Пиломатериалы и саморезы
B4: Модуль А (2 стойки) | H4: Модуль Б
B5: № позиции п/п | C5: Ширина | D5: Толщина | E5: Длина | F5: Количество заготовок для 2-х стоек | H5: № п/п | I5: Ширина | J5: Толщина | K5: Длина
B6: 1 | C6: 40 | D6: 60 | E6: 600 | F6: 4 | H6: 1 | I6: 80 | J6: 80 | K6: 500
B7: 2 | C7: 40 | D7: 60 | E7: 400 | F7: 4 | H7: 2 | I7: 80 | J7: 80 | K7: 500
B8: 3 | C8: 40 | D8: 60 | E8: 650 | F8: 2
B9: 4 | C9: 40 | D9: 60 | E9: 650 | F9: 2
B10: 5 | C10: 150 | D10: 10 | E10: 150 | F10: 2
B12: Саморезы для модуля А (для 2-х стоек)
B13: № п/п | C13: Длина | D13: Кол-во
B14: 1 | C14: 35 | D14: 4
B15: 2 | C15: 50 | D15: 4
